BEGIN:VCALENDAR
VERSION:2.0
PRODID:-//Wayne Senior Center - ECPv6.15.20//NONSGML v1.0//EN
CALSCALE:GREGORIAN
METHOD:PUBLISH
X-WR-CALNAME:Wayne Senior Center
X-ORIGINAL-URL:https://wayneseniorcenter.org
X-WR-CALDESC:Events for Wayne Senior Center
REFRESH-INTERVAL;VALUE=DURATION:PT1H
X-Robots-Tag:noindex
X-PUBLISHED-TTL:PT1H
BEGIN:VTIMEZONE
TZID:UTC
BEGIN:STANDARD
TZOFFSETFROM:+0000
TZOFFSETTO:+0000
TZNAME:UTC
DTSTART:20220101T000000
END:STANDARD
END:VTIMEZONE
BEGIN:VEVENT
DTSTART;TZID=UTC:20230920T150000
DTEND;TZID=UTC:20230920T160000
DTSTAMP:20260422T055036
CREATED:20230912T153458Z
LAST-MODIFIED:20230912T161427Z
UID:11754-1695222000-1695225600@wayneseniorcenter.org
SUMMARY:Seasons: Grief & Loss Group (In-Person)
DESCRIPTION:Join others in a safe space to listen\, share\, and heal in conversation about losses you have experienced. We will learn how grief can affect our everyday life and ways to manage the range of feelings and symptoms.
URL:https://wayneseniorcenter.org/event/seasons-grief-loss-group-in-person/
CATEGORIES:Social
END:VEVENT
BEGIN:VEVENT
DTSTART;TZID=UTC:20230920T123000
DTEND;TZID=UTC:20230920T133000
DTSTAMP:20260422T055036
CREATED:20230912T153458Z
LAST-MODIFIED:20230912T153458Z
UID:11753-1695213000-1695216600@wayneseniorcenter.org
SUMMARY:Ukelele Class (In-Person)
DESCRIPTION:5 session Ukelele class on Wednesdays in August and September. $5 per session or $22 for the entire course. Call to register!
URL:https://wayneseniorcenter.org/event/ukelele-class-in-person-2/
CATEGORIES:Life Enrichment
END:VEVENT
BEGIN:VEVENT
DTSTART;TZID=UTC:20230920T110000
DTEND;TZID=UTC:20230920T120000
DTSTAMP:20260422T055036
CREATED:20230912T153458Z
LAST-MODIFIED:20230912T153458Z
UID:11751-1695207600-1695211200@wayneseniorcenter.org
SUMMARY:Tai Chi (In-Person & Virtual)
DESCRIPTION:Tai Chi is a gentle form of exercise involving a series of graceful movements performed in a slow\, focused manner and accompanied by deep breathing. Excellent for strengthening balance and promoting stress reduction. In-Person fees – $5 for WSC members\, $10 for non-members.
URL:https://wayneseniorcenter.org/event/tai-chi-in-person-virtual-2/
CATEGORIES:Fitness
END:VEVENT
BEGIN:VEVENT
DTSTART;TZID=UTC:20230920T100000
DTEND;TZID=UTC:20230920T110000
DTSTAMP:20260422T055036
CREATED:20230912T153458Z
LAST-MODIFIED:20230912T153458Z
UID:11750-1695204000-1695207600@wayneseniorcenter.org
SUMMARY:Strength & Cardio (Virtual)
DESCRIPTION:Move\, stretch\, and tone both seated and standing along with instructor Cathi from home. All abilities welcome!
URL:https://wayneseniorcenter.org/event/strength-cardio-virtual-2/
CATEGORIES:Fitness
END:VEVENT
BEGIN:VEVENT
DTSTART;TZID=UTC:20230920T100000
DTEND;TZID=UTC:20230920T110000
DTSTAMP:20260422T055036
CREATED:20230912T153458Z
LAST-MODIFIED:20230912T153458Z
UID:11752-1695204000-1695207600@wayneseniorcenter.org
SUMMARY:Drums Alive (In-Person)
DESCRIPTION:Join us for a fun\, rhythmic\, seated exercise class that gets you moving and grooving!
URL:https://wayneseniorcenter.org/event/drums-alive-in-person-2/
CATEGORIES:Fitness
END:VEVENT
BEGIN:VEVENT
DTSTART;TZID=UTC:20230919T130000
DTEND;TZID=UTC:20230919T143000
DTSTAMP:20260422T055036
CREATED:20230912T153443Z
LAST-MODIFIED:20230912T161411Z
UID:11746-1695128400-1695133800@wayneseniorcenter.org
SUMMARY:Gmail Tips & Tricks (In-Person)
DESCRIPTION:Tips and techniques to declutter your inbox and keep it organized moving forward. This class will make use of Gmail as an example but many of the concepts can be applied to other email services.
URL:https://wayneseniorcenter.org/event/gmail-tips-tricks-in-person/
CATEGORIES:Life Enrichment
END:VEVENT
BEGIN:VEVENT
DTSTART;TZID=UTC:20230919T120000
DTEND;TZID=UTC:20230919T130000
DTSTAMP:20260422T055036
CREATED:20230912T153443Z
LAST-MODIFIED:20230912T153443Z
UID:11745-1695124800-1695128400@wayneseniorcenter.org
SUMMARY:Let's Do Lunch! - Super Foods (In-Person)
DESCRIPTION:Let’s do lunch together in the Center! Enjoy a variety of super foods this month as we explore foods that are nutritionally dense. Superfoods contain lots of vitamins\, minerals\, and antioxidants that are good for one’s health. The menu will change weekly. $5 for members\, $8 for non-members. Call for more information and to reserve a meal\, limited servings available – (610)688-6246
URL:https://wayneseniorcenter.org/event/lets-do-lunch-super-foods-in-person/
CATEGORIES:Social
END:VEVENT
BEGIN:VEVENT
DTSTART;TZID=UTC:20230919T110000
DTEND;TZID=UTC:20230919T130000
DTSTAMP:20260422T055036
CREATED:20230912T153443Z
LAST-MODIFIED:20230912T153443Z
UID:11747-1695121200-1695128400@wayneseniorcenter.org
SUMMARY:Tech Tuesday (In-Person)
DESCRIPTION:Tuesdays from 11am – 1pm stop in to chat Technology. Stop by between programs\, after grabbing some lunch\, or whenever is convenient for you. Bring specific questions about your device or come in to explore Wayne Senior Center iPads in a no-pressure environment. Or\, come by to share recent accomplishments or knowledge you’d like to share with others\, or just stop in to say hi and learn something new. Stop by during this time or email Francis at francis@wayneseniorcenter.org to make an appointment.
URL:https://wayneseniorcenter.org/event/tech-tuesday-in-person/
CATEGORIES:Life Enrichment
END:VEVENT
BEGIN:VEVENT
DTSTART;TZID=UTC:20230919T110000
DTEND;TZID=UTC:20230919T120000
DTSTAMP:20260422T055036
CREATED:20230912T153436Z
LAST-MODIFIED:20230912T153436Z
UID:11744-1695121200-1695124800@wayneseniorcenter.org
SUMMARY:Sit\, Move\, Stretch (In-Person & Virtual)
DESCRIPTION:This class offers seated or standing: cardio movement\, strengthening\, deep breathing\, and stretching. In-Person fees – free for WSC members\, $3 for non-members.
URL:https://wayneseniorcenter.org/event/sit-move-stretch-in-person-virtual/
CATEGORIES:Fitness
END:VEVENT
BEGIN:VEVENT
DTSTART;TZID=UTC:20230919T093000
DTEND;TZID=UTC:20230919T103000
DTSTAMP:20260422T055036
CREATED:20230912T153443Z
LAST-MODIFIED:20230912T153443Z
UID:11748-1695115800-1695119400@wayneseniorcenter.org
SUMMARY:Walking Club (In-Person)
DESCRIPTION:Join Margo\, Destinie\, and other WSC friends for a walk on the Radnor Trail. Every Tuesday at 9:30am weather permitting. Walkers meet at the trail parking lot – 520 Conestoga Road. All abilities welcome. Wear comfortable walking shoes.
URL:https://wayneseniorcenter.org/event/walking-club-in-person/
CATEGORIES:Fitness
END:VEVENT
BEGIN:VEVENT
DTSTART;TZID=UTC:20230918T170000
DTEND;TZID=UTC:20230918T183000
DTSTAMP:20260422T055036
CREATED:20230912T153436Z
LAST-MODIFIED:20230912T153436Z
UID:11740-1695056400-1695061800@wayneseniorcenter.org
SUMMARY:Dinner with Friends (In-Person)
DESCRIPTION:Come reconnect with old friends and make new acquaintances! We will gather casually to enjoy each others company and chat about a variety of interesting topics. Bring your own dinner\, we will provide drinks and dessert. Please RSVP by July 21st. Call to RSVP – (610)688-6246
URL:https://wayneseniorcenter.org/event/dinner-with-friends-in-person/
CATEGORIES:Social
END:VEVENT
BEGIN:VEVENT
DTSTART;TZID=UTC:20230918T130000
DTEND;TZID=UTC:20230918T150000
DTSTAMP:20260422T055036
CREATED:20230912T153428Z
LAST-MODIFIED:20230912T161343Z
UID:11739-1695042000-1695049200@wayneseniorcenter.org
SUMMARY:Classic Movie Matinee: Sapphire (In-Person)
DESCRIPTION:Join us for a viewing of the film\, Sapphire (1959)\, a British crime drama film starring Nigel Patrick and Yvonne Mitchel. The murder of a young woman in London exposes deep racial tensions and prejudices inherent in the area.
URL:https://wayneseniorcenter.org/event/classic-movie-matinee-sapphire-in-person/
CATEGORIES:Social
END:VEVENT
BEGIN:VEVENT
DTSTART;TZID=UTC:20230918T130000
DTEND;TZID=UTC:20230918T140000
DTSTAMP:20260422T055036
CREATED:20230912T153428Z
LAST-MODIFIED:20230912T153428Z
UID:11738-1695042000-1695045600@wayneseniorcenter.org
SUMMARY:Strength & Balance (Virtual)
DESCRIPTION:Move\, stretch\, and improve your balance\, both seated and standing\, along with instructor Cathi from home. All abilities welcome!
URL:https://wayneseniorcenter.org/event/strength-balance-virtual/
CATEGORIES:Fitness
END:VEVENT
BEGIN:VEVENT
DTSTART;TZID=UTC:20230918T100000
DTEND;TZID=UTC:20230918T120000
DTSTAMP:20260422T055036
CREATED:20230912T153436Z
LAST-MODIFIED:20230912T153436Z
UID:11741-1695031200-1695038400@wayneseniorcenter.org
SUMMARY:Refresher Bridge (In-Person)
DESCRIPTION:Brush up on your bridge skills with Lawrie Stetson and Dave Heron. Must have previous bridge experience.
URL:https://wayneseniorcenter.org/event/refresher-bridge-in-person/
CATEGORIES:Social
END:VEVENT
BEGIN:VEVENT
DTSTART;TZID=UTC:20230918T100000
DTEND;TZID=UTC:20230918T120000
DTSTAMP:20260422T055036
CREATED:20230912T153436Z
LAST-MODIFIED:20230912T153436Z
UID:11742-1695031200-1695038400@wayneseniorcenter.org
SUMMARY:WSC Quilters (In-Person)
DESCRIPTION:WSC quiliting club. All skill levels Welcome. Come by or RSVP by calling the center – (610) 688-6246
URL:https://wayneseniorcenter.org/event/wsc-quilters-in-person/
CATEGORIES:Social
END:VEVENT
BEGIN:VEVENT
DTSTART;TZID=UTC:20230918T100000
DTEND;TZID=UTC:20230918T110000
DTSTAMP:20260422T055036
CREATED:20230912T153436Z
LAST-MODIFIED:20230912T153436Z
UID:11743-1695031200-1695034800@wayneseniorcenter.org
SUMMARY:Brain Games (In-Person)
DESCRIPTION:Exercise your brain and work through word games\, word scrambles and brain teasers.
URL:https://wayneseniorcenter.org/event/brain-games-in-person/
CATEGORIES:Life Enrichment
END:VEVENT
BEGIN:VEVENT
DTSTART;TZID=UTC:20230915T130000
DTEND;TZID=UTC:20230915T140000
DTSTAMP:20260422T055036
CREATED:20230912T153428Z
LAST-MODIFIED:20230912T153428Z
UID:11737-1694782800-1694786400@wayneseniorcenter.org
SUMMARY:Virtual Reality Travel (In-Person)
DESCRIPTION:Try out VR headsets and visit remote parts of the world!
URL:https://wayneseniorcenter.org/event/virtual-reality-travel-in-person/
CATEGORIES:Life Enrichment
END:VEVENT
BEGIN:VEVENT
DTSTART;TZID=UTC:20230915T103000
DTEND;TZID=UTC:20230915T113000
DTSTAMP:20260422T055036
CREATED:20230912T153428Z
LAST-MODIFIED:20230912T153428Z
UID:11736-1694773800-1694777400@wayneseniorcenter.org
SUMMARY:Chair Yoga (In-Person & Virtual)
DESCRIPTION:A well-rounded class that will help with balance\, strengthening\, and relaxation. Have a sturdy chair available. All abilities welcome. In-Person fees – $3 for WSC members\, $6 for non-members.
URL:https://wayneseniorcenter.org/event/chair-yoga-in-person-virtual/
CATEGORIES:Fitness
END:VEVENT
BEGIN:VEVENT
DTSTART;TZID=UTC:20230914T130000
DTEND;TZID=UTC:20230914T150000
DTSTAMP:20260422T055036
CREATED:20230912T153423Z
LAST-MODIFIED:20230912T153423Z
UID:11733-1694696400-1694703600@wayneseniorcenter.org
SUMMARY:Cards & Games: Open Play (In-Person)
DESCRIPTION:Join us for an afternoon playing games of your choice- Poker\, gin rummy\, pinochle\, mahjong etc. Meet a new friend and start a game of your own. Mahjong teachers/leaders feel free to bring your game set!
URL:https://wayneseniorcenter.org/event/cards-games-open-play-in-person/
CATEGORIES:Social
END:VEVENT
BEGIN:VEVENT
DTSTART;TZID=UTC:20230914T110000
DTEND;TZID=UTC:20230914T120000
DTSTAMP:20260422T055036
CREATED:20230912T153423Z
LAST-MODIFIED:20230912T153423Z
UID:11734-1694689200-1694692800@wayneseniorcenter.org
SUMMARY:Sit\, Move\, Stretch (In-Person)
DESCRIPTION:Gentle Movement\, stretching\, and relaxation. Free for WSC members\, $3 for non-members. RSVP by calling the center – (610) 688-6246
URL:https://wayneseniorcenter.org/event/sit-move-stretch-in-person/
CATEGORIES:Fitness
END:VEVENT
BEGIN:VEVENT
DTSTART;TZID=UTC:20230914T101500
DTEND;TZID=UTC:20230914T111500
DTSTAMP:20260422T055036
CREATED:20230912T153422Z
LAST-MODIFIED:20230912T153422Z
UID:11731-1694686500-1694690100@wayneseniorcenter.org
SUMMARY:Art Class: Abstract Art  (In-Person)
DESCRIPTION:Explore a new medium with instructor Wayne. In this class we’ll experiment with abstract and expressionist art. Cost is $2 for materials. Please RSVP by calling the center (610)688-6246
URL:https://wayneseniorcenter.org/event/art-class-abstract-art-in-person/
CATEGORIES:Life Enrichment
END:VEVENT
BEGIN:VEVENT
DTSTART;TZID=UTC:20230914T093000
DTEND;TZID=UTC:20230914T103000
DTSTAMP:20260422T055036
CREATED:20230912T153428Z
LAST-MODIFIED:20230912T153428Z
UID:11735-1694683800-1694687400@wayneseniorcenter.org
SUMMARY:Zumba Gold (In-Person)
DESCRIPTION:Keep your body moving\, enjoy lively music\, and have fun dancing your cares away. $3 members / $6 non-members
URL:https://wayneseniorcenter.org/event/zumba-gold-in-person/
CATEGORIES:Fitness
END:VEVENT
BEGIN:VEVENT
DTSTART;TZID=UTC:20230914T090000
DTEND;TZID=UTC:20230914T110000
DTSTAMP:20260422T055036
CREATED:20230912T153422Z
LAST-MODIFIED:20230912T153422Z
UID:11732-1694682000-1694689200@wayneseniorcenter.org
SUMMARY:Blood Pressure Screenings  (In-Person)
DESCRIPTION:Are you trying to keep track of your blood pressure readings? Have questions about a medication or just need a listening ear? Stop by and speak 1:1 with a nurse.
URL:https://wayneseniorcenter.org/event/blood-pressure-screenings-in-person/
CATEGORIES:Life Enrichment
END:VEVENT
BEGIN:VEVENT
DTSTART;TZID=UTC:20230913T160000
DTEND;TZID=UTC:20230913T190000
DTSTAMP:20260422T055036
CREATED:20230912T153422Z
LAST-MODIFIED:20230912T161315Z
UID:11730-1694620800-1694631600@wayneseniorcenter.org
SUMMARY:Murder Mystery Dinner at The Willows Park Preserve (In-Person)
DESCRIPTION:Are you a fan of theater and mystery? Enjoy an evening of dinner theater with “Murder in Tinseltown” on Wednesday\, September 13th performed by the actors of Without a Cue Productions. The evening includes a delicious meal prepared by Aneu Catering (menu available upon request). $30 for members\, $45 for non-members – RSVP / payment by September 6th. \nShow synopsis – Hollywood’s hottest producer\, Cecil M. DeBill\, has invited anyone who is anyone to his birthday party – including you! Unfortunately\, tragedy has befallen this celebration. A few minutes before the party started\, Cecil went into his office to answer a phone call and never returned. Two of the party’s attendees\, Ginger Rogers and Fred Astaire\, began to search for him when they discovered him lying on the floor of his study… dead. With the assistance of Gertie (an all-too-eager hat check girl)\, and Cecil’s wife (a socialite who may be after more than justice)\, can Humphrey Bogart ferret out the guilty party? In Hollywood\, everyone has a motive – especially in this “Murder in Tinseltown.”
URL:https://wayneseniorcenter.org/event/murder-mystery-dinner-at-the-willows-park-preserve-in-person/
CATEGORIES:Social
END:VEVENT
BEGIN:VEVENT
DTSTART;TZID=UTC:20230913T160000
DTEND;TZID=UTC:20230913T170000
DTSTAMP:20260422T055036
CREATED:20230912T153420Z
LAST-MODIFIED:20230912T153420Z
UID:11725-1694620800-1694624400@wayneseniorcenter.org
SUMMARY:Mindfulness (Virtual)
DESCRIPTION:Practicing mindfulness provides countless benefits to our overall well-being. Join instructor Liz for an hour of virtual mindfulness.
URL:https://wayneseniorcenter.org/event/mindfulness-virtual/
CATEGORIES:Health and Wellness
END:VEVENT
BEGIN:VEVENT
DTSTART;TZID=UTC:20230913T123000
DTEND;TZID=UTC:20230913T133000
DTSTAMP:20260422T055036
CREATED:20230912T153420Z
LAST-MODIFIED:20230912T153420Z
UID:11729-1694608200-1694611800@wayneseniorcenter.org
SUMMARY:Ukelele Class (In-Person)
DESCRIPTION:5 session Ukelele class on Wednesdays in August and September. $5 per session or $22 for the entire course. Call to register!
URL:https://wayneseniorcenter.org/event/ukelele-class-in-person/
CATEGORIES:Life Enrichment
END:VEVENT
BEGIN:VEVENT
DTSTART;TZID=UTC:20230913T110000
DTEND;TZID=UTC:20230913T120000
DTSTAMP:20260422T055036
CREATED:20230912T153420Z
LAST-MODIFIED:20230912T153420Z
UID:11727-1694602800-1694606400@wayneseniorcenter.org
SUMMARY:Tai Chi (In-Person & Virtual)
DESCRIPTION:Tai Chi is a gentle form of exercise involving a series of graceful movements performed in a slow\, focused manner and accompanied by deep breathing. Excellent for strengthening balance and promoting stress reduction. In-Person fees – $5 for WSC members\, $10 for non-members.
URL:https://wayneseniorcenter.org/event/tai-chi-in-person-virtual/
CATEGORIES:Fitness
END:VEVENT
BEGIN:VEVENT
DTSTART;TZID=UTC:20230913T100000
DTEND;TZID=UTC:20230913T110000
DTSTAMP:20260422T055036
CREATED:20230912T153420Z
LAST-MODIFIED:20230912T153420Z
UID:11726-1694599200-1694602800@wayneseniorcenter.org
SUMMARY:Strength & Cardio (Virtual)
DESCRIPTION:Move\, stretch\, and tone both seated and standing along with instructor Cathi from home. All abilities welcome!
URL:https://wayneseniorcenter.org/event/strength-cardio-virtual/
CATEGORIES:Fitness
END:VEVENT
BEGIN:VEVENT
DTSTART;TZID=UTC:20230913T100000
DTEND;TZID=UTC:20230913T110000
DTSTAMP:20260422T055036
CREATED:20230912T153420Z
LAST-MODIFIED:20230912T153420Z
UID:11728-1694599200-1694602800@wayneseniorcenter.org
SUMMARY:Drums Alive (In-Person)
DESCRIPTION:Join us for a fun\, rhythmic\, seated exercise class that gets you moving and grooving!
URL:https://wayneseniorcenter.org/event/drums-alive-in-person/
CATEGORIES:Fitness
END:VEVENT
END:VCALENDAR