BEGIN:VCALENDAR
VERSION:2.0
PRODID:-//Wayne Senior Center - ECPv6.15.20//NONSGML v1.0//EN
CALSCALE:GREGORIAN
METHOD:PUBLISH
X-ORIGINAL-URL:https://wayneseniorcenter.org
X-WR-CALDESC:Events for Wayne Senior Center
REFRESH-INTERVAL;VALUE=DURATION:PT1H
X-Robots-Tag:noindex
X-PUBLISHED-TTL:PT1H
BEGIN:VTIMEZONE
TZID:UTC
BEGIN:STANDARD
TZOFFSETFROM:+0000
TZOFFSETTO:+0000
TZNAME:UTC
DTSTART:20230101T000000
END:STANDARD
END:VTIMEZONE
BEGIN:VEVENT
DTSTART;TZID=UTC:20240401T100000
DTEND;TZID=UTC:20240401T120000
DTSTAMP:20260422T020405
CREATED:20240326T182248Z
LAST-MODIFIED:20240326T182248Z
UID:13343-1711965600-1711972800@wayneseniorcenter.org
SUMMARY:WSC Quilters (In Center)
DESCRIPTION:WSC quiliting club. All skill levels Welcome. Come by or RSVP by calling the center – (610) 688-6246
URL:https://wayneseniorcenter.org/event/wsc-quilters-in-center-23/
END:VEVENT
BEGIN:VEVENT
DTSTART;TZID=UTC:20240401T110000
DTEND;TZID=UTC:20240401T120000
DTSTAMP:20260422T020405
CREATED:20240326T182248Z
LAST-MODIFIED:20240417T131752Z
UID:13344-1711969200-1711972800@wayneseniorcenter.org
SUMMARY:Soul Line Dance (In Center)
DESCRIPTION:Kenny James will get you moving and grooving in a fun\, easy to learn dance class. No experience necessary – all can join. $3 members / $6 non-members.
URL:https://wayneseniorcenter.org/event/soul-line-dance-in-center/
END:VEVENT
BEGIN:VEVENT
DTSTART;TZID=UTC:20240401T130000
DTEND;TZID=UTC:20240401T140000
DTSTAMP:20260422T020405
CREATED:20240326T182247Z
LAST-MODIFIED:20240326T182247Z
UID:13342-1711976400-1711980000@wayneseniorcenter.org
SUMMARY:Strength and Balance (Virtual)
DESCRIPTION:Move\, stretch\, and improve your balance\, both seated and standing\, along with instructor Cathi from home. All abilities welcome!
URL:https://wayneseniorcenter.org/event/strength-and-balance-virtual-23/
END:VEVENT
BEGIN:VEVENT
DTSTART;TZID=UTC:20240402T090000
DTEND;TZID=UTC:20240402T110000
DTSTAMP:20260422T020405
CREATED:20240326T182257Z
LAST-MODIFIED:20240326T182303Z
UID:13348-1712048400-1712055600@wayneseniorcenter.org
SUMMARY:Tech Tuesday (In Center)
DESCRIPTION:Tuesdays from 11am – 1pm stop in to chat Technology. Stop by between programs\, after grabbing some lunch\, or whenever is convenient for you. Bring specific questions about your device or come in to explore Wayne Senior Center iPads in a no-pressure environment. Or\, come by to share recent accomplishments or knowledge you’d like to share with others\, or just stop in to say hi and learn something new. Stop by during this time or email Francis at francis@wayneseniorcenter.org to make an appointment.
URL:https://wayneseniorcenter.org/event/tech-tuesday-in-center-24/
END:VEVENT
BEGIN:VEVENT
DTSTART;TZID=UTC:20240402T100000
DTEND;TZID=UTC:20240402T110000
DTSTAMP:20260422T020405
CREATED:20240326T182257Z
LAST-MODIFIED:20240326T182303Z
UID:13349-1712052000-1712055600@wayneseniorcenter.org
SUMMARY:Smart Phone Tips: Do Not Disturb (In Center)
DESCRIPTION:Learn to selectively silence notifications using your smartphone’s built-in do not disturb settings. Quiet notifications during the night while allowing certain people or apps to come through in the case of an emergency.
URL:https://wayneseniorcenter.org/event/smart-phone-tips-do-not-disturb-in-center/
END:VEVENT
BEGIN:VEVENT
DTSTART;TZID=UTC:20240402T110000
DTEND;TZID=UTC:20240402T120000
DTSTAMP:20260422T020405
CREATED:20240326T182256Z
LAST-MODIFIED:20240326T182303Z
UID:13347-1712055600-1712059200@wayneseniorcenter.org
SUMMARY:Sit\, Move\, Stretch (In Center and Virtual)
DESCRIPTION:This class offers seated or standing: cardio movement\, strengthening\, deep breathing\, and stretching. In-Person fees – free for WSC members\, $3 for non-members.
URL:https://wayneseniorcenter.org/event/sit-move-stretch-in-center-and-virtual-24/
END:VEVENT
BEGIN:VEVENT
DTSTART;TZID=UTC:20240402T120000
DTEND;TZID=UTC:20240402T130000
DTSTAMP:20260422T020405
CREATED:20240326T182248Z
LAST-MODIFIED:20240326T182248Z
UID:13345-1712059200-1712062800@wayneseniorcenter.org
SUMMARY:Let's Do Brunch! (In Center)
DESCRIPTION:Join us for brunch – we’ll be offering tasy brunch options that we know you’ll love! Please see the menu in the newsletter for details on each meal. $5 members / $8 non-members. RSVP required\, in-center dining only.
URL:https://wayneseniorcenter.org/event/lets-do-brunch-in-center/
END:VEVENT
BEGIN:VEVENT
DTSTART;TZID=UTC:20240402T123000
DTEND;TZID=UTC:20240402T130000
DTSTAMP:20260422T020405
CREATED:20240326T182256Z
LAST-MODIFIED:20240326T182302Z
UID:13346-1712061000-1712062800@wayneseniorcenter.org
SUMMARY:Mindfulness (In Center)
DESCRIPTION:Practicing mindfulness provides countless benefits to our overall well-being. Join instructor Liz for an hour of virtual mindfulness.
URL:https://wayneseniorcenter.org/event/mindfulness-in-center-17/
END:VEVENT
BEGIN:VEVENT
DTSTART;TZID=UTC:20240403T100000
DTEND;TZID=UTC:20240403T110000
DTSTAMP:20260422T020405
CREATED:20240326T182257Z
LAST-MODIFIED:20240326T182304Z
UID:13350-1712138400-1712142000@wayneseniorcenter.org
SUMMARY:Drums Alive (In Center)
DESCRIPTION:Join us for a fun\, rhythmic\, seated exercise class that gets you moving and grooving!
URL:https://wayneseniorcenter.org/event/drums-alive-in-center-18/
END:VEVENT
BEGIN:VEVENT
DTSTART;TZID=UTC:20240403T100000
DTEND;TZID=UTC:20240403T110000
DTSTAMP:20260422T020405
CREATED:20240326T182348Z
LAST-MODIFIED:20240326T182348Z
UID:13356-1712138400-1712142000@wayneseniorcenter.org
SUMMARY:Strength and Cardio (Virtual)
DESCRIPTION:Move\, stretch\, and tone both seated and standing along with instructor Cathi from home. All abilities welcome!
URL:https://wayneseniorcenter.org/event/strength-and-cardio-virtual-26/
END:VEVENT
BEGIN:VEVENT
DTSTART;TZID=UTC:20240403T110000
DTEND;TZID=UTC:20240403T120000
DTSTAMP:20260422T020405
CREATED:20240326T182348Z
LAST-MODIFIED:20240326T182348Z
UID:13357-1712142000-1712145600@wayneseniorcenter.org
SUMMARY:Tai Chi (In Center and Virtual)
DESCRIPTION:Tai Chi is a gentle form of exercise involving a series of graceful movements performed in a slow\, focused manner and accompanied by deep breathing. Excellent for strengthening balance and promoting stress reduction. In-Person fees – $5 for WSC members\, $10 for non-members.
URL:https://wayneseniorcenter.org/event/tai-chi-in-center-and-virtual-26/
END:VEVENT
BEGIN:VEVENT
DTSTART;TZID=UTC:20240403T123000
DTEND;TZID=UTC:20240403T133000
DTSTAMP:20260422T020405
CREATED:20240326T182348Z
LAST-MODIFIED:20240326T182348Z
UID:13358-1712147400-1712151000@wayneseniorcenter.org
SUMMARY:Trivia (In Center)
DESCRIPTION:Join us for some friendly competition using a fun\, game-based learning platform called Kahoot!
URL:https://wayneseniorcenter.org/event/trivia-in-center-2/
END:VEVENT
BEGIN:VEVENT
DTSTART;TZID=UTC:20240404T090000
DTEND;TZID=UTC:20240404T110000
DTSTAMP:20260422T020405
CREATED:20240326T182349Z
LAST-MODIFIED:20240326T182349Z
UID:13359-1712221200-1712228400@wayneseniorcenter.org
SUMMARY:Blood Pressure Screenings (In Center)
DESCRIPTION:Are you trying to keep track of your blood pressure readings? Have questions about a medication or just need a listening ear? Stop by and speak 1:1 with a nurse.
URL:https://wayneseniorcenter.org/event/blood-pressure-screenings-in-center-14/
END:VEVENT
BEGIN:VEVENT
DTSTART;TZID=UTC:20240404T093000
DTEND;TZID=UTC:20240404T103000
DTSTAMP:20260422T020405
CREATED:20240326T182352Z
LAST-MODIFIED:20240326T182352Z
UID:13364-1712223000-1712226600@wayneseniorcenter.org
SUMMARY:Zumba Gold (In Center)
DESCRIPTION:Keep your body moving\, enjoy lively music\, and have fun dancing your cares away. $3 members / $6 non-members
URL:https://wayneseniorcenter.org/event/zumba-gold-in-center-25/
END:VEVENT
BEGIN:VEVENT
DTSTART;TZID=UTC:20240404T110000
DTEND;TZID=UTC:20240404T120000
DTSTAMP:20260422T020405
CREATED:20240326T182351Z
LAST-MODIFIED:20240326T182351Z
UID:13362-1712228400-1712232000@wayneseniorcenter.org
SUMMARY:Sit\, Move\, Stretch (In Center)
DESCRIPTION:Gentle Movement\, stretching\, and relaxation. Free for WSC members\, $3 for non-members. RSVP by calling the center – (610) 688-6246
URL:https://wayneseniorcenter.org/event/sit-move-stretch-in-center-24/
END:VEVENT
BEGIN:VEVENT
DTSTART;TZID=UTC:20240404T110000
DTEND;TZID=UTC:20240404T130000
DTSTAMP:20260422T020405
CREATED:20240326T182351Z
LAST-MODIFIED:20240326T182351Z
UID:13361-1712228400-1712235600@wayneseniorcenter.org
SUMMARY:Septa Key Card Renewals (In Center)
DESCRIPTION:Join us on the first Thursday of each month for Septa Key Cardapplications and renewals and other constituent services with a representative from Sen. AmandaCappelletti’s office. The representative is here 11:00AM to 1:00PM\, no need to RSVP.
URL:https://wayneseniorcenter.org/event/septa-key-card-renewals-in-center-7/
END:VEVENT
BEGIN:VEVENT
DTSTART;TZID=UTC:20240404T123000
DTEND;TZID=UTC:20240404T133000
DTSTAMP:20260422T020405
CREATED:20240326T182352Z
LAST-MODIFIED:20240326T182352Z
UID:13363-1712233800-1712237400@wayneseniorcenter.org
SUMMARY:Tai Chi (In Center)
DESCRIPTION:New Time / Additional Class – Tai Chi is a gentle form of exercise involving a series of graceful movements performed in a slow\, focused manner and accompanied by deep breathing. Excellent for strengthening balance and promoting stress reduction. In-Person fees – $5 for WSC members\, $10 for non-members.
URL:https://wayneseniorcenter.org/event/tai-chi-in-center/
END:VEVENT
BEGIN:VEVENT
DTSTART;TZID=UTC:20240404T130000
DTEND;TZID=UTC:20240404T150000
DTSTAMP:20260422T020405
CREATED:20240326T182349Z
LAST-MODIFIED:20240326T182349Z
UID:13360-1712235600-1712242800@wayneseniorcenter.org
SUMMARY:Cards and Games: Open Play (In Center)
DESCRIPTION:Join us for an afternoon playing games of your choice- Poker\, gin rummy\, pinochle\, mahjong etc. Meet a new friend and start a game of your own. Mahjong teachers/leaders feel free to bring your game set!
URL:https://wayneseniorcenter.org/event/cards-and-games-open-play-in-center-25/
END:VEVENT
BEGIN:VEVENT
DTSTART;TZID=UTC:20240405T103000
DTEND;TZID=UTC:20240405T113000
DTSTAMP:20260422T020405
CREATED:20240326T182352Z
LAST-MODIFIED:20240326T182352Z
UID:13365-1712313000-1712316600@wayneseniorcenter.org
SUMMARY:Chair Yoga (In Person and Virtual)
DESCRIPTION:A well-rounded class that will help with balance\, strengthening\, and relaxation. Have a sturdy chair available. All abilities welcome. In-Person fees – $3 for WSC members\, $6 for non-members.
URL:https://wayneseniorcenter.org/event/chair-yoga-in-person-and-virtual-20/
END:VEVENT
BEGIN:VEVENT
DTSTART;TZID=UTC:20240408T100000
DTEND;TZID=UTC:20240408T120000
DTSTAMP:20260422T020405
CREATED:20240326T182406Z
LAST-MODIFIED:20240326T182406Z
UID:13367-1712570400-1712577600@wayneseniorcenter.org
SUMMARY:Refresher Bridge (In Center)
DESCRIPTION:Brush up on your bridge skills with Lawrie Stetson and Dave Heron. Must have previous bridge experience.
URL:https://wayneseniorcenter.org/event/refresher-bridge-in-center-24/
END:VEVENT
BEGIN:VEVENT
DTSTART;TZID=UTC:20240408T100000
DTEND;TZID=UTC:20240408T120000
DTSTAMP:20260422T020405
CREATED:20240326T182407Z
LAST-MODIFIED:20240326T182407Z
UID:13370-1712570400-1712577600@wayneseniorcenter.org
SUMMARY:WSC Quilters (In Center)
DESCRIPTION:WSC quiliting club. All skill levels Welcome. Come by or RSVP by calling the center – (610) 688-6246
URL:https://wayneseniorcenter.org/event/wsc-quilters-in-center-24/
END:VEVENT
BEGIN:VEVENT
DTSTART;TZID=UTC:20240408T110000
DTEND;TZID=UTC:20240408T120000
DTSTAMP:20260422T020405
CREATED:20240326T182420Z
LAST-MODIFIED:20240417T131803Z
UID:13371-1712574000-1712577600@wayneseniorcenter.org
SUMMARY:Soul Line Dance (In Center)
DESCRIPTION:Kenny James will get you moving and grooving in a fun\, easy to learn dance class. No experience necessary – all can join. $3 members / $6 non-members.
URL:https://wayneseniorcenter.org/event/soul-line-dance-in-center-2/
END:VEVENT
BEGIN:VEVENT
DTSTART;TZID=UTC:20240408T130000
DTEND;TZID=UTC:20240408T140000
DTSTAMP:20260422T020405
CREATED:20240326T182406Z
LAST-MODIFIED:20240326T182406Z
UID:13369-1712581200-1712584800@wayneseniorcenter.org
SUMMARY:Strength and Balance (Virtual)
DESCRIPTION:Move\, stretch\, and improve your balance\, both seated and standing\, along with instructor Cathi from home. All abilities welcome!
URL:https://wayneseniorcenter.org/event/strength-and-balance-virtual-24/
END:VEVENT
BEGIN:VEVENT
DTSTART;TZID=UTC:20240408T130000
DTEND;TZID=UTC:20240408T150000
DTSTAMP:20260422T020405
CREATED:20240326T182405Z
LAST-MODIFIED:20240326T184659Z
UID:13366-1712581200-1712588400@wayneseniorcenter.org
SUMMARY:Classic Movie Matinee: Steel Magnolias (1989)  (In Center)
DESCRIPTION:Join us for a viewing of the film\, Steel Magnolias (1989)\, a comedy-drama film starring Sally Field\, Dolly Parton\, Shirley MacLaine\, Daryl Hannah\, Olympia Dukakis\, and Julia Roberts.
URL:https://wayneseniorcenter.org/event/classic-movie-matinee-steel-magnolias-1989-in-center/
END:VEVENT
BEGIN:VEVENT
DTSTART;TZID=UTC:20240408T140000
DTEND;TZID=UTC:20240408T150000
DTSTAMP:20260422T020405
CREATED:20240326T182406Z
LAST-MODIFIED:20240326T182406Z
UID:13368-1712584800-1712588400@wayneseniorcenter.org
SUMMARY:Seasons: Grief and Loss Group (In Center)
DESCRIPTION:Join others in a safe space to listen\, share\, and heal in conversation about losses you have experienced. We will learn how grief can affect our everyday life and ways to manage the range of feelings and symptoms.
URL:https://wayneseniorcenter.org/event/seasons-grief-and-loss-group-in-center-9/
END:VEVENT
BEGIN:VEVENT
DTSTART;TZID=UTC:20240409T090000
DTEND;TZID=UTC:20240409T110000
DTSTAMP:20260422T020405
CREATED:20240326T182422Z
LAST-MODIFIED:20240326T182422Z
UID:13375-1712653200-1712660400@wayneseniorcenter.org
SUMMARY:Tech Tuesday (In Center)
DESCRIPTION:Tuesdays from 11am – 1pm stop in to chat Technology. Stop by between programs\, after grabbing some lunch\, or whenever is convenient for you. Bring specific questions about your device or come in to explore Wayne Senior Center iPads in a no-pressure environment. Or\, come by to share recent accomplishments or knowledge you’d like to share with others\, or just stop in to say hi and learn something new. Stop by during this time or email Francis at francis@wayneseniorcenter.org to make an appointment.
URL:https://wayneseniorcenter.org/event/tech-tuesday-in-center-25/
END:VEVENT
BEGIN:VEVENT
DTSTART;TZID=UTC:20240409T110000
DTEND;TZID=UTC:20240409T120000
DTSTAMP:20260422T020405
CREATED:20240326T182421Z
LAST-MODIFIED:20240326T182421Z
UID:13374-1712660400-1712664000@wayneseniorcenter.org
SUMMARY:Sit\, Move\, Stretch (In Center and Virtual)
DESCRIPTION:This class offers seated or standing: cardio movement\, strengthening\, deep breathing\, and stretching. In-Person fees – free for WSC members\, $3 for non-members.
URL:https://wayneseniorcenter.org/event/sit-move-stretch-in-center-and-virtual-25/
END:VEVENT
BEGIN:VEVENT
DTSTART;TZID=UTC:20240409T120000
DTEND;TZID=UTC:20240409T130000
DTSTAMP:20260422T020405
CREATED:20240326T182421Z
LAST-MODIFIED:20240326T182421Z
UID:13372-1712664000-1712667600@wayneseniorcenter.org
SUMMARY:Let's Do Brunch! (In Center)
DESCRIPTION:Join us for brunch – we’ll be offering tasy brunch options that we know you’ll love! Please see the menu in the newsletter for details on each meal. $5 members / $8 non-members. RSVP required\, in-center dining only.
URL:https://wayneseniorcenter.org/event/lets-do-brunch-in-center-2/
END:VEVENT
BEGIN:VEVENT
DTSTART;TZID=UTC:20240409T123000
DTEND;TZID=UTC:20240409T130000
DTSTAMP:20260422T020405
CREATED:20240326T182421Z
LAST-MODIFIED:20240326T182421Z
UID:13373-1712665800-1712667600@wayneseniorcenter.org
SUMMARY:Mindfulness (In Center)
DESCRIPTION:Practicing mindfulness provides countless benefits to our overall well-being. Join instructor Liz for an hour of virtual mindfulness.
URL:https://wayneseniorcenter.org/event/mindfulness-in-center-18/
END:VEVENT
BEGIN:VEVENT
DTSTART;TZID=UTC:20240410T100000
DTEND;TZID=UTC:20240410T110000
DTSTAMP:20260422T020405
CREATED:20240326T182435Z
LAST-MODIFIED:20240326T182435Z
UID:13376-1712743200-1712746800@wayneseniorcenter.org
SUMMARY:Drums Alive (In Center)
DESCRIPTION:Join us for a fun\, rhythmic\, seated exercise class that gets you moving and grooving!
URL:https://wayneseniorcenter.org/event/drums-alive-in-center-19/
END:VEVENT
END:VCALENDAR