BEGIN:VCALENDAR
VERSION:2.0
PRODID:-//Wayne Senior Center - ECPv6.15.20//NONSGML v1.0//EN
CALSCALE:GREGORIAN
METHOD:PUBLISH
X-WR-CALNAME:Wayne Senior Center
X-ORIGINAL-URL:https://wayneseniorcenter.org
X-WR-CALDESC:Events for Wayne Senior Center
REFRESH-INTERVAL;VALUE=DURATION:PT1H
X-Robots-Tag:noindex
X-PUBLISHED-TTL:PT1H
BEGIN:VTIMEZONE
TZID:UTC
BEGIN:STANDARD
TZOFFSETFROM:+0000
TZOFFSETTO:+0000
TZNAME:UTC
DTSTART:20220101T000000
END:STANDARD
END:VTIMEZONE
BEGIN:VEVENT
DTSTART;TZID=UTC:20230927T100000
DTEND;TZID=UTC:20230927T110000
DTSTAMP:20260422T035526
CREATED:20230912T153534Z
LAST-MODIFIED:20230912T153534Z
UID:11775-1695808800-1695812400@wayneseniorcenter.org
SUMMARY:Coffee with Chaplains (In-Person)
DESCRIPTION:Enjoy coffee\, pastries\, and meaningful discussion with a visiting Radnor Police Chaplain.
URL:https://wayneseniorcenter.org/event/coffee-with-chaplains-in-person/
CATEGORIES:Life Enrichment
END:VEVENT
BEGIN:VEVENT
DTSTART;TZID=UTC:20230927T100000
DTEND;TZID=UTC:20230927T110000
DTSTAMP:20260422T035526
CREATED:20230912T153519Z
LAST-MODIFIED:20230912T153519Z
UID:11773-1695808800-1695812400@wayneseniorcenter.org
SUMMARY:Strength & Cardio (Virtual)
DESCRIPTION:Move\, stretch\, and tone both seated and standing along with instructor Cathi from home. All abilities welcome!
URL:https://wayneseniorcenter.org/event/strength-cardio-virtual-3/
CATEGORIES:Fitness
END:VEVENT
BEGIN:VEVENT
DTSTART;TZID=UTC:20230926T130000
DTEND;TZID=UTC:20230926T143000
DTSTAMP:20260422T035526
CREATED:20230912T153515Z
LAST-MODIFIED:20230912T163913Z
UID:11768-1695733200-1695738600@wayneseniorcenter.org
SUMMARY:Intro to Podcasts (In-Person)
DESCRIPTION:Explore the wide world of podcasts – a form of audio storytelling that can take many forms from topical news to historical programs\, fictional radio dramas to programs on spirituality\, and everything in between. Learn how to listen in on your mobile device and take a tour through some popular programs. Bring your device or follow along on WSC iPads.
URL:https://wayneseniorcenter.org/event/intro-to-podcasts-in-person/
CATEGORIES:Life Enrichment
END:VEVENT
BEGIN:VEVENT
DTSTART;TZID=UTC:20230926T120000
DTEND;TZID=UTC:20230926T130000
DTSTAMP:20260422T035526
CREATED:20230912T153516Z
LAST-MODIFIED:20230912T163812Z
UID:11769-1695729600-1695733200@wayneseniorcenter.org
SUMMARY:Let's Do Lunch! - Super Foods (In-Person)
DESCRIPTION:Let’s do lunch together in the Center! Enjoy a variety of super foods this month as we explore foods that are nutritionally dense. Superfoods contain lots of vitamins\, minerals\, and antioxidants that are good for one’s health. The menu will change weekly. $5 for members\, $8 for non-members. Call for more information and to reserve a meal\, limited servings available – (610)688-6246
URL:https://wayneseniorcenter.org/event/lets-do-lunch-super-foods-in-person-2/
CATEGORIES:Social
END:VEVENT
BEGIN:VEVENT
DTSTART;TZID=UTC:20230926T110000
DTEND;TZID=UTC:20230926T130000
DTSTAMP:20260422T035526
CREATED:20230912T153518Z
LAST-MODIFIED:20230912T153518Z
UID:11770-1695726000-1695733200@wayneseniorcenter.org
SUMMARY:Tech Tuesday (In-Person)
DESCRIPTION:Tuesdays from 11am – 1pm stop in to chat Technology. Stop by between programs\, after grabbing some lunch\, or whenever is convenient for you. Bring specific questions about your device or come in to explore Wayne Senior Center iPads in a no-pressure environment. Or\, come by to share recent accomplishments or knowledge you’d like to share with others\, or just stop in to say hi and learn something new. Stop by during this time or email Francis at francis@wayneseniorcenter.org to make an appointment.
URL:https://wayneseniorcenter.org/event/tech-tuesday-in-person-2/
CATEGORIES:Life Enrichment
END:VEVENT
BEGIN:VEVENT
DTSTART;TZID=UTC:20230926T110000
DTEND;TZID=UTC:20230926T120000
DTSTAMP:20260422T035526
CREATED:20230912T153515Z
LAST-MODIFIED:20230912T153515Z
UID:11766-1695726000-1695729600@wayneseniorcenter.org
SUMMARY:Sit\, Move\, Stretch (In-Person & Virtual)
DESCRIPTION:This class offers seated or standing: cardio movement\, strengthening\, deep breathing\, and stretching. In-Person fees – free for WSC members\, $3 for non-members.
URL:https://wayneseniorcenter.org/event/sit-move-stretch-in-person-virtual-2/
CATEGORIES:Fitness
END:VEVENT
BEGIN:VEVENT
DTSTART;TZID=UTC:20230926T100000
DTEND;TZID=UTC:20230926T110000
DTSTAMP:20260422T035526
CREATED:20230912T153515Z
LAST-MODIFIED:20230912T153515Z
UID:11767-1695722400-1695726000@wayneseniorcenter.org
SUMMARY:Ask a Nurse (In-Person)
DESCRIPTION:Are you trying to keep track of your blood pressure readings? Have questions about a medication or just need a listening ear? Stop by and speak 1:1 with a nurse.
URL:https://wayneseniorcenter.org/event/ask-a-nurse-in-person/
CATEGORIES:Life Enrichment
END:VEVENT
BEGIN:VEVENT
DTSTART;TZID=UTC:20230926T093000
DTEND;TZID=UTC:20230926T103000
DTSTAMP:20260422T035526
CREATED:20230912T153518Z
LAST-MODIFIED:20230912T153518Z
UID:11771-1695720600-1695724200@wayneseniorcenter.org
SUMMARY:Walking Club (In-Person)
DESCRIPTION:Join Margo\, Destinie\, and other WSC friends for a walk on the Radnor Trail. Every Tuesday at 9:30am weather permitting. Walkers meet at the trail parking lot – 520 Conestoga Road. All abilities welcome. Wear comfortable walking shoes.
URL:https://wayneseniorcenter.org/event/walking-club-in-person-2/
CATEGORIES:Fitness
END:VEVENT
BEGIN:VEVENT
DTSTART;TZID=UTC:20230925T130000
DTEND;TZID=UTC:20230925T140000
DTSTAMP:20260422T035526
CREATED:20230912T153509Z
LAST-MODIFIED:20230912T153509Z
UID:11762-1695646800-1695650400@wayneseniorcenter.org
SUMMARY:Strength & Balance (Virtual)
DESCRIPTION:Move\, stretch\, and improve your balance\, both seated and standing\, along with instructor Cathi from home. All abilities welcome!
URL:https://wayneseniorcenter.org/event/strength-balance-virtual-2/
CATEGORIES:Fitness
END:VEVENT
BEGIN:VEVENT
DTSTART;TZID=UTC:20230925T100000
DTEND;TZID=UTC:20230925T120000
DTSTAMP:20260422T035526
CREATED:20230912T153510Z
LAST-MODIFIED:20230912T153510Z
UID:11764-1695636000-1695643200@wayneseniorcenter.org
SUMMARY:WSC Quilters (In-Person)
DESCRIPTION:WSC quiliting club. All skill levels Welcome. Come by or RSVP by calling the center – (610) 688-6246
URL:https://wayneseniorcenter.org/event/wsc-quilters-in-person-2/
CATEGORIES:Social
END:VEVENT
BEGIN:VEVENT
DTSTART;TZID=UTC:20230925T100000
DTEND;TZID=UTC:20230925T120000
DTSTAMP:20260422T035526
CREATED:20230912T153509Z
LAST-MODIFIED:20230912T153509Z
UID:11763-1695636000-1695643200@wayneseniorcenter.org
SUMMARY:Refresher Bridge (In-Person)
DESCRIPTION:Brush up on your bridge skills with Lawrie Stetson and Dave Heron. Must have previous bridge experience.
URL:https://wayneseniorcenter.org/event/refresher-bridge-in-person-2/
CATEGORIES:Social
END:VEVENT
BEGIN:VEVENT
DTSTART;TZID=UTC:20230925T100000
DTEND;TZID=UTC:20230925T110000
DTSTAMP:20260422T035526
CREATED:20230912T153515Z
LAST-MODIFIED:20230912T153515Z
UID:11765-1695636000-1695639600@wayneseniorcenter.org
SUMMARY:Brain Games (In-Person)
DESCRIPTION:Exercise your brain and work through word games\, word scrambles and brain teasers.
URL:https://wayneseniorcenter.org/event/brain-games-in-person-2/
CATEGORIES:Life Enrichment
END:VEVENT
BEGIN:VEVENT
DTSTART;TZID=UTC:20230922T130000
DTEND;TZID=UTC:20230922T140000
DTSTAMP:20260422T035526
CREATED:20230912T153509Z
LAST-MODIFIED:20230912T153509Z
UID:11761-1695387600-1695391200@wayneseniorcenter.org
SUMMARY:Jeopardy! (In-Person)
DESCRIPTION:Join fellow WSC members for a game of Jeopardy!
URL:https://wayneseniorcenter.org/event/jeopardy-in-person/
CATEGORIES:Social
END:VEVENT
BEGIN:VEVENT
DTSTART;TZID=UTC:20230922T113000
DTEND;TZID=UTC:20230922T113000
DTSTAMP:20260422T035526
CREATED:20230912T153509Z
LAST-MODIFIED:20230912T153509Z
UID:11760-1695382200-1695382200@wayneseniorcenter.org
SUMMARY:Lifelong Learning: Maine - The Spectacular Coast (Virtual)
DESCRIPTION:Join Margo for a lifelong learning presentation.
URL:https://wayneseniorcenter.org/event/lifelong-learning-maine-the-spectacular-coast-virtual/
CATEGORIES:Life Enrichment
END:VEVENT
BEGIN:VEVENT
DTSTART;TZID=UTC:20230922T103000
DTEND;TZID=UTC:20230922T113000
DTSTAMP:20260422T035526
CREATED:20230912T153459Z
LAST-MODIFIED:20230912T153459Z
UID:11759-1695378600-1695382200@wayneseniorcenter.org
SUMMARY:Chair Yoga (In-Person & Virtual)
DESCRIPTION:A well-rounded class that will help with balance\, strengthening\, and relaxation. Have a sturdy chair available. All abilities welcome. In-Person fees – $3 for WSC members\, $6 for non-members.
URL:https://wayneseniorcenter.org/event/chair-yoga-in-person-virtual-2/
CATEGORIES:Fitness
END:VEVENT
BEGIN:VEVENT
DTSTART;TZID=UTC:20230921T130000
DTEND;TZID=UTC:20230921T150000
DTSTAMP:20260422T035526
CREATED:20230912T153459Z
LAST-MODIFIED:20230912T153459Z
UID:11755-1695301200-1695308400@wayneseniorcenter.org
SUMMARY:Cards & Games: Open Play (In-Person)
DESCRIPTION:Join us for an afternoon playing games of your choice- Poker\, gin rummy\, pinochle\, mahjong etc. Meet a new friend and start a game of your own. Mahjong teachers/leaders feel free to bring your game set!
URL:https://wayneseniorcenter.org/event/cards-games-open-play-in-person-2/
CATEGORIES:Social
END:VEVENT
BEGIN:VEVENT
DTSTART;TZID=UTC:20230921T120000
DTEND;TZID=UTC:20230921T130000
DTSTAMP:20260422T035526
CREATED:20230912T153459Z
LAST-MODIFIED:20230912T153459Z
UID:11756-1695297600-1695301200@wayneseniorcenter.org
SUMMARY:Positive Aging Series #3 (In-Person)
DESCRIPTION:Lets chat about ways to support our brain health that effect health outcomes! Its much more than crossword puzzles. Bring your own lunch or purchase the Center lunch! This week we’ll discuss how to best communicate with doctors to improve our health and more!
URL:https://wayneseniorcenter.org/event/positive-aging-series-3-in-person/
CATEGORIES:Life Enrichment
END:VEVENT
BEGIN:VEVENT
DTSTART;TZID=UTC:20230921T110000
DTEND;TZID=UTC:20230921T120000
DTSTAMP:20260422T035526
CREATED:20230912T153459Z
LAST-MODIFIED:20230912T153459Z
UID:11757-1695294000-1695297600@wayneseniorcenter.org
SUMMARY:Sit\, Move\, Stretch (In-Person)
DESCRIPTION:Gentle Movement\, stretching\, and relaxation. Free for WSC members\, $3 for non-members. RSVP by calling the center – (610) 688-6246
URL:https://wayneseniorcenter.org/event/sit-move-stretch-in-person-2/
CATEGORIES:Fitness
END:VEVENT
BEGIN:VEVENT
DTSTART;TZID=UTC:20230921T093000
DTEND;TZID=UTC:20230921T103000
DTSTAMP:20260422T035526
CREATED:20230912T153459Z
LAST-MODIFIED:20230912T153459Z
UID:11758-1695288600-1695292200@wayneseniorcenter.org
SUMMARY:Zumba Gold (In-Person)
DESCRIPTION:Keep your body moving\, enjoy lively music\, and have fun dancing your cares away. $3 members / $6 non-members
URL:https://wayneseniorcenter.org/event/zumba-gold-in-person-2/
CATEGORIES:Fitness
END:VEVENT
BEGIN:VEVENT
DTSTART;TZID=UTC:20230920T160000
DTEND;TZID=UTC:20230920T170000
DTSTAMP:20260422T035526
CREATED:20230912T153443Z
LAST-MODIFIED:20230912T153443Z
UID:11749-1695225600-1695229200@wayneseniorcenter.org
SUMMARY:Mindfulness (Virtual)
DESCRIPTION:Practicing mindfulness provides countless benefits to our overall well-being. Join instructor Liz for an hour of virtual mindfulness.
URL:https://wayneseniorcenter.org/event/mindfulness-virtual-2/
CATEGORIES:Health and Wellness
END:VEVENT
BEGIN:VEVENT
DTSTART;TZID=UTC:20230920T150000
DTEND;TZID=UTC:20230920T160000
DTSTAMP:20260422T035526
CREATED:20230912T153458Z
LAST-MODIFIED:20230912T161427Z
UID:11754-1695222000-1695225600@wayneseniorcenter.org
SUMMARY:Seasons: Grief & Loss Group (In-Person)
DESCRIPTION:Join others in a safe space to listen\, share\, and heal in conversation about losses you have experienced. We will learn how grief can affect our everyday life and ways to manage the range of feelings and symptoms.
URL:https://wayneseniorcenter.org/event/seasons-grief-loss-group-in-person/
CATEGORIES:Social
END:VEVENT
BEGIN:VEVENT
DTSTART;TZID=UTC:20230920T123000
DTEND;TZID=UTC:20230920T133000
DTSTAMP:20260422T035526
CREATED:20230912T153458Z
LAST-MODIFIED:20230912T153458Z
UID:11753-1695213000-1695216600@wayneseniorcenter.org
SUMMARY:Ukelele Class (In-Person)
DESCRIPTION:5 session Ukelele class on Wednesdays in August and September. $5 per session or $22 for the entire course. Call to register!
URL:https://wayneseniorcenter.org/event/ukelele-class-in-person-2/
CATEGORIES:Life Enrichment
END:VEVENT
BEGIN:VEVENT
DTSTART;TZID=UTC:20230920T110000
DTEND;TZID=UTC:20230920T120000
DTSTAMP:20260422T035526
CREATED:20230912T153458Z
LAST-MODIFIED:20230912T153458Z
UID:11751-1695207600-1695211200@wayneseniorcenter.org
SUMMARY:Tai Chi (In-Person & Virtual)
DESCRIPTION:Tai Chi is a gentle form of exercise involving a series of graceful movements performed in a slow\, focused manner and accompanied by deep breathing. Excellent for strengthening balance and promoting stress reduction. In-Person fees – $5 for WSC members\, $10 for non-members.
URL:https://wayneseniorcenter.org/event/tai-chi-in-person-virtual-2/
CATEGORIES:Fitness
END:VEVENT
BEGIN:VEVENT
DTSTART;TZID=UTC:20230920T100000
DTEND;TZID=UTC:20230920T110000
DTSTAMP:20260422T035526
CREATED:20230912T153458Z
LAST-MODIFIED:20230912T153458Z
UID:11750-1695204000-1695207600@wayneseniorcenter.org
SUMMARY:Strength & Cardio (Virtual)
DESCRIPTION:Move\, stretch\, and tone both seated and standing along with instructor Cathi from home. All abilities welcome!
URL:https://wayneseniorcenter.org/event/strength-cardio-virtual-2/
CATEGORIES:Fitness
END:VEVENT
BEGIN:VEVENT
DTSTART;TZID=UTC:20230920T100000
DTEND;TZID=UTC:20230920T110000
DTSTAMP:20260422T035526
CREATED:20230912T153458Z
LAST-MODIFIED:20230912T153458Z
UID:11752-1695204000-1695207600@wayneseniorcenter.org
SUMMARY:Drums Alive (In-Person)
DESCRIPTION:Join us for a fun\, rhythmic\, seated exercise class that gets you moving and grooving!
URL:https://wayneseniorcenter.org/event/drums-alive-in-person-2/
CATEGORIES:Fitness
END:VEVENT
BEGIN:VEVENT
DTSTART;TZID=UTC:20230919T130000
DTEND;TZID=UTC:20230919T143000
DTSTAMP:20260422T035526
CREATED:20230912T153443Z
LAST-MODIFIED:20230912T161411Z
UID:11746-1695128400-1695133800@wayneseniorcenter.org
SUMMARY:Gmail Tips & Tricks (In-Person)
DESCRIPTION:Tips and techniques to declutter your inbox and keep it organized moving forward. This class will make use of Gmail as an example but many of the concepts can be applied to other email services.
URL:https://wayneseniorcenter.org/event/gmail-tips-tricks-in-person/
CATEGORIES:Life Enrichment
END:VEVENT
BEGIN:VEVENT
DTSTART;TZID=UTC:20230919T120000
DTEND;TZID=UTC:20230919T130000
DTSTAMP:20260422T035526
CREATED:20230912T153443Z
LAST-MODIFIED:20230912T153443Z
UID:11745-1695124800-1695128400@wayneseniorcenter.org
SUMMARY:Let's Do Lunch! - Super Foods (In-Person)
DESCRIPTION:Let’s do lunch together in the Center! Enjoy a variety of super foods this month as we explore foods that are nutritionally dense. Superfoods contain lots of vitamins\, minerals\, and antioxidants that are good for one’s health. The menu will change weekly. $5 for members\, $8 for non-members. Call for more information and to reserve a meal\, limited servings available – (610)688-6246
URL:https://wayneseniorcenter.org/event/lets-do-lunch-super-foods-in-person/
CATEGORIES:Social
END:VEVENT
BEGIN:VEVENT
DTSTART;TZID=UTC:20230919T110000
DTEND;TZID=UTC:20230919T130000
DTSTAMP:20260422T035526
CREATED:20230912T153443Z
LAST-MODIFIED:20230912T153443Z
UID:11747-1695121200-1695128400@wayneseniorcenter.org
SUMMARY:Tech Tuesday (In-Person)
DESCRIPTION:Tuesdays from 11am – 1pm stop in to chat Technology. Stop by between programs\, after grabbing some lunch\, or whenever is convenient for you. Bring specific questions about your device or come in to explore Wayne Senior Center iPads in a no-pressure environment. Or\, come by to share recent accomplishments or knowledge you’d like to share with others\, or just stop in to say hi and learn something new. Stop by during this time or email Francis at francis@wayneseniorcenter.org to make an appointment.
URL:https://wayneseniorcenter.org/event/tech-tuesday-in-person/
CATEGORIES:Life Enrichment
END:VEVENT
BEGIN:VEVENT
DTSTART;TZID=UTC:20230919T110000
DTEND;TZID=UTC:20230919T120000
DTSTAMP:20260422T035526
CREATED:20230912T153436Z
LAST-MODIFIED:20230912T153436Z
UID:11744-1695121200-1695124800@wayneseniorcenter.org
SUMMARY:Sit\, Move\, Stretch (In-Person & Virtual)
DESCRIPTION:This class offers seated or standing: cardio movement\, strengthening\, deep breathing\, and stretching. In-Person fees – free for WSC members\, $3 for non-members.
URL:https://wayneseniorcenter.org/event/sit-move-stretch-in-person-virtual/
CATEGORIES:Fitness
END:VEVENT
BEGIN:VEVENT
DTSTART;TZID=UTC:20230919T093000
DTEND;TZID=UTC:20230919T103000
DTSTAMP:20260422T035526
CREATED:20230912T153443Z
LAST-MODIFIED:20230912T153443Z
UID:11748-1695115800-1695119400@wayneseniorcenter.org
SUMMARY:Walking Club (In-Person)
DESCRIPTION:Join Margo\, Destinie\, and other WSC friends for a walk on the Radnor Trail. Every Tuesday at 9:30am weather permitting. Walkers meet at the trail parking lot – 520 Conestoga Road. All abilities welcome. Wear comfortable walking shoes.
URL:https://wayneseniorcenter.org/event/walking-club-in-person/
CATEGORIES:Fitness
END:VEVENT
END:VCALENDAR