BEGIN:VCALENDAR
VERSION:2.0
PRODID:-//Wayne Senior Center - ECPv6.15.20//NONSGML v1.0//EN
CALSCALE:GREGORIAN
METHOD:PUBLISH
X-WR-CALNAME:Wayne Senior Center
X-ORIGINAL-URL:https://wayneseniorcenter.org
X-WR-CALDESC:Events for Wayne Senior Center
REFRESH-INTERVAL;VALUE=DURATION:PT1H
X-Robots-Tag:noindex
X-PUBLISHED-TTL:PT1H
BEGIN:VTIMEZONE
TZID:UTC
BEGIN:STANDARD
TZOFFSETFROM:+0000
TZOFFSETTO:+0000
TZNAME:UTC
DTSTART:20230101T000000
END:STANDARD
END:VTIMEZONE
BEGIN:VEVENT
DTSTART;TZID=UTC:20240123T123000
DTEND;TZID=UTC:20240123T130000
DTSTAMP:20260421T114314
CREATED:20231218T204452Z
LAST-MODIFIED:20231218T204452Z
UID:12929-1706013000-1706014800@wayneseniorcenter.org
SUMMARY:Mindfulness (In Center)
DESCRIPTION:Practicing mindfulness provides countless benefits to our overall well-being. Join instructor Liz for an hour of virtual mindfulness.
URL:https://wayneseniorcenter.org/event/mindfulness-in-center-8/
CATEGORIES:Health and Wellness
END:VEVENT
BEGIN:VEVENT
DTSTART;TZID=UTC:20240123T120000
DTEND;TZID=UTC:20240123T130000
DTSTAMP:20260421T114314
CREATED:20231218T204451Z
LAST-MODIFIED:20231218T204451Z
UID:12928-1706011200-1706014800@wayneseniorcenter.org
SUMMARY:Let's Do Lunch! - Cozy Comforts (In Center)
DESCRIPTION:Let’s do lunch together in the Center! Continuing with the principles of the Blue Zone\, we enjoy the bounty of the season this month with roasted soups\, roasted and toasted salads (featuring a different great grain each week)\, and a sweet treat from The Blue Zone Cookbook. Enjoy an additional healthy crafter option from our very own kitchen. The menu will change weekly. $5 for members\, $8 for non-members. Call for more information and to reserve a meal\, limited servings available – (610)688-6246
URL:https://wayneseniorcenter.org/event/lets-do-lunch-cozy-comforts-in-center-2/
CATEGORIES:Social
END:VEVENT
BEGIN:VEVENT
DTSTART;TZID=UTC:20240123T110000
DTEND;TZID=UTC:20240123T120000
DTSTAMP:20260421T114314
CREATED:20231218T204506Z
LAST-MODIFIED:20231218T204506Z
UID:12930-1706007600-1706011200@wayneseniorcenter.org
SUMMARY:Sit\, Move\, Stretch (In Center and Virtual)
DESCRIPTION:This class offers seated or standing: cardio movement\, strengthening\, deep breathing\, and stretching. In-Person fees – free for WSC members\, $3 for non-members.
URL:https://wayneseniorcenter.org/event/sit-move-stretch-in-center-and-virtual-14/
CATEGORIES:Fitness
END:VEVENT
BEGIN:VEVENT
DTSTART;TZID=UTC:20240123T100000
DTEND;TZID=UTC:20240123T110000
DTSTAMP:20260421T114314
CREATED:20231218T204506Z
LAST-MODIFIED:20231221T200751Z
UID:12932-1706004000-1706007600@wayneseniorcenter.org
SUMMARY:Smart Phone Tips: Emergency SOS (In Center)
DESCRIPTION:iPhone and Android both include features that allow you to quickly call for help in an emergency. Learn how to set your emergency contacts and explore the settings and features that your phone offers for emergency situations. Any type of phone is welcome – iPhone\, Android\, flip phone\, etc.
URL:https://wayneseniorcenter.org/event/smart-phone-tips-emergency-sos-in-center/
CATEGORIES:Life Enrichment
ATTACH;FMTTYPE=image/png:https://wayneseniorcenter.org/wp-content/uploads/2023/12/0123-Smart-Phone-Tips-Emergency-SOS.png
END:VEVENT
BEGIN:VEVENT
DTSTART;TZID=UTC:20240123T090000
DTEND;TZID=UTC:20240123T110000
DTSTAMP:20260421T114314
CREATED:20231218T204506Z
LAST-MODIFIED:20231218T204506Z
UID:12931-1706000400-1706007600@wayneseniorcenter.org
SUMMARY:Tech Tuesday (In Center)
DESCRIPTION:Tuesdays from 11am – 1pm stop in to chat Technology. Stop by between programs\, after grabbing some lunch\, or whenever is convenient for you. Bring specific questions about your device or come in to explore Wayne Senior Center iPads in a no-pressure environment. Or\, come by to share recent accomplishments or knowledge you’d like to share with others\, or just stop in to say hi and learn something new. Stop by during this time or email Francis at francis@wayneseniorcenter.org to make an appointment.
URL:https://wayneseniorcenter.org/event/tech-tuesday-in-center-14/
CATEGORIES:Life Enrichment
END:VEVENT
BEGIN:VEVENT
DTSTART;TZID=UTC:20240122T130000
DTEND;TZID=UTC:20240122T140000
DTSTAMP:20260421T114314
CREATED:20231218T204451Z
LAST-MODIFIED:20231218T204451Z
UID:12925-1705928400-1705932000@wayneseniorcenter.org
SUMMARY:Strength and Balance (Virtual)
DESCRIPTION:Move\, stretch\, and improve your balance\, both seated and standing\, along with instructor Cathi from home. All abilities welcome!
URL:https://wayneseniorcenter.org/event/strength-and-balance-virtual-14/
CATEGORIES:Fitness
END:VEVENT
BEGIN:VEVENT
DTSTART;TZID=UTC:20240122T130000
DTEND;TZID=UTC:20240122T140000
DTSTAMP:20260421T114314
CREATED:20231218T204451Z
LAST-MODIFIED:20231218T204451Z
UID:12927-1705928400-1705932000@wayneseniorcenter.org
SUMMARY:Manifest with Destinie (In Center)
DESCRIPTION:In this program you’ll learn the importance of saying yes to abundance and other things you want to receive by creating a vision board for 2024.
URL:https://wayneseniorcenter.org/event/manifest-with-destinie-in-center/
CATEGORIES:Life Enrichment
END:VEVENT
BEGIN:VEVENT
DTSTART;TZID=UTC:20240122T100000
DTEND;TZID=UTC:20240122T120000
DTSTAMP:20260421T114314
CREATED:20231218T204451Z
LAST-MODIFIED:20231218T204451Z
UID:12926-1705917600-1705924800@wayneseniorcenter.org
SUMMARY:WSC Quilters (In Center)
DESCRIPTION:WSC quiliting club. All skill levels Welcome. Come by or RSVP by calling the center – (610) 688-6246
URL:https://wayneseniorcenter.org/event/wsc-quilters-in-center-14/
CATEGORIES:Social
END:VEVENT
BEGIN:VEVENT
DTSTART;TZID=UTC:20240122T100000
DTEND;TZID=UTC:20240122T120000
DTSTAMP:20260421T114314
CREATED:20231218T204436Z
LAST-MODIFIED:20231218T204436Z
UID:12924-1705917600-1705924800@wayneseniorcenter.org
SUMMARY:Refresher Bridge (In Center)
DESCRIPTION:Brush up on your bridge skills with Lawrie Stetson and Dave Heron. Must have previous bridge experience.
URL:https://wayneseniorcenter.org/event/refresher-bridge-in-center-14/
CATEGORIES:Social
END:VEVENT
BEGIN:VEVENT
DTSTART;TZID=UTC:20240119T103000
DTEND;TZID=UTC:20240119T113000
DTSTAMP:20260421T114314
CREATED:20231218T204436Z
LAST-MODIFIED:20231218T204941Z
UID:12923-1705660200-1705663800@wayneseniorcenter.org
SUMMARY:Chair Yoga (In Center and Virtual)
DESCRIPTION:A well-rounded class that will help with balance\, strengthening\, and relaxation. Have a sturdy chair available. All abilities welcome. In-Person fees – $3 for WSC members\, $6 for non-members.
URL:https://wayneseniorcenter.org/event/chair-yoga-in-person-and-virtual-10/
CATEGORIES:Fitness
END:VEVENT
BEGIN:VEVENT
DTSTART;TZID=UTC:20240118T130000
DTEND;TZID=UTC:20240118T150000
DTSTAMP:20260421T114314
CREATED:20231218T204421Z
LAST-MODIFIED:20231218T204421Z
UID:12919-1705582800-1705590000@wayneseniorcenter.org
SUMMARY:Cards and Games: Open Play (In Center)
DESCRIPTION:Join us for an afternoon playing games of your choice- Poker\, gin rummy\, pinochle\, mahjong etc. Meet a new friend and start a game of your own. Mahjong teachers/leaders feel free to bring your game set!
URL:https://wayneseniorcenter.org/event/cards-and-games-open-play-in-center-14/
CATEGORIES:Social
END:VEVENT
BEGIN:VEVENT
DTSTART;TZID=UTC:20240118T110000
DTEND;TZID=UTC:20240118T120000
DTSTAMP:20260421T114314
CREATED:20231218T204436Z
LAST-MODIFIED:20231218T204436Z
UID:12920-1705575600-1705579200@wayneseniorcenter.org
SUMMARY:Sit\, Move\, Stretch (In Center)
DESCRIPTION:Gentle Movement\, stretching\, and relaxation. Free for WSC members\, $3 for non-members. RSVP by calling the center – (610) 688-6246
URL:https://wayneseniorcenter.org/event/sit-move-stretch-in-center-14/
CATEGORIES:Fitness
END:VEVENT
BEGIN:VEVENT
DTSTART;TZID=UTC:20240118T101500
DTEND;TZID=UTC:20240118T110000
DTSTAMP:20260421T114314
CREATED:20231218T204436Z
LAST-MODIFIED:20231218T204436Z
UID:12922-1705572900-1705575600@wayneseniorcenter.org
SUMMARY:The Future of Food (In Center)
DESCRIPTION:Join us for a fascinating short video by the Educated Choices program. Test-tube foods? Laboratory meats? What will we be eating next?
URL:https://wayneseniorcenter.org/event/the-future-of-food-in-center/
CATEGORIES:Life Enrichment
END:VEVENT
BEGIN:VEVENT
DTSTART;TZID=UTC:20240118T093000
DTEND;TZID=UTC:20240118T103000
DTSTAMP:20260421T114314
CREATED:20231218T204436Z
LAST-MODIFIED:20231218T204436Z
UID:12921-1705570200-1705573800@wayneseniorcenter.org
SUMMARY:Zumba Gold (In Center)
DESCRIPTION:Keep your body moving\, enjoy lively music\, and have fun dancing your cares away. $3 members / $6 non-members
URL:https://wayneseniorcenter.org/event/zumba-gold-in-center-14/
CATEGORIES:Fitness
END:VEVENT
BEGIN:VEVENT
DTSTART;TZID=UTC:20240118T090000
DTEND;TZID=UTC:20240118T110000
DTSTAMP:20260421T114314
CREATED:20231218T204421Z
LAST-MODIFIED:20231218T204421Z
UID:12918-1705568400-1705575600@wayneseniorcenter.org
SUMMARY:Blood Pressure Screenings (In Center)
DESCRIPTION:Are you trying to keep track of your blood pressure readings? Have questions about a medication or just need a listening ear? Stop by and speak 1:1 with a nurse.
URL:https://wayneseniorcenter.org/event/blood-pressure-screenings-in-center-9/
CATEGORIES:Life Enrichment
END:VEVENT
BEGIN:VEVENT
DTSTART;TZID=UTC:20240117T150000
DTEND;TZID=UTC:20240117T160000
DTSTAMP:20260421T114314
CREATED:20231218T204407Z
LAST-MODIFIED:20231218T204407Z
UID:12914-1705503600-1705507200@wayneseniorcenter.org
SUMMARY:Memoir Writing (Virtual)
DESCRIPTION:Join Sara Wenger\, MFA for a memoir writing workshop. Sara will share memoir excerpts as well as writing exercises to help you write your unique life experiences so they can be passed on to children\, grandchildren\, friends and others. No prior writing experience is necessary! The class is appropriate for both novice and seasoned writers
URL:https://wayneseniorcenter.org/event/memoir-writing-virtual-4/
CATEGORIES:Life Enrichment
END:VEVENT
BEGIN:VEVENT
DTSTART;TZID=UTC:20240117T110000
DTEND;TZID=UTC:20240117T120000
DTSTAMP:20260421T114314
CREATED:20231218T204421Z
LAST-MODIFIED:20231218T204421Z
UID:12916-1705489200-1705492800@wayneseniorcenter.org
SUMMARY:Tai Chi (In Center and Virtual)
DESCRIPTION:Tai Chi is a gentle form of exercise involving a series of graceful movements performed in a slow\, focused manner and accompanied by deep breathing. Excellent for strengthening balance and promoting stress reduction. In-Person fees – $5 for WSC members\, $10 for non-members.
URL:https://wayneseniorcenter.org/event/tai-chi-in-center-and-virtual-15/
CATEGORIES:Fitness
END:VEVENT
BEGIN:VEVENT
DTSTART;TZID=UTC:20240117T100000
DTEND;TZID=UTC:20240117T110000
DTSTAMP:20260421T114314
CREATED:20231218T204421Z
LAST-MODIFIED:20231218T204421Z
UID:12915-1705485600-1705489200@wayneseniorcenter.org
SUMMARY:Strength and Cardio (Virtual)
DESCRIPTION:Move\, stretch\, and tone both seated and standing along with instructor Cathi from home. All abilities welcome!
URL:https://wayneseniorcenter.org/event/strength-and-cardio-virtual-15/
CATEGORIES:Fitness
END:VEVENT
BEGIN:VEVENT
DTSTART;TZID=UTC:20240117T100000
DTEND;TZID=UTC:20240117T110000
DTSTAMP:20260421T114314
CREATED:20231218T204421Z
LAST-MODIFIED:20231218T204421Z
UID:12917-1705485600-1705489200@wayneseniorcenter.org
SUMMARY:Cholesterol and Blood Sugar (In Center)
DESCRIPTION:Connections\, tips\, and foods that help. Join Jennifer Onopa from Penn State Extension for an informative presentation followed by some surprising food tasting.
URL:https://wayneseniorcenter.org/event/cholesterol-and-blood-sugar-in-center/
CATEGORIES:Life Enrichment
END:VEVENT
BEGIN:VEVENT
DTSTART;TZID=UTC:20240116T123000
DTEND;TZID=UTC:20240116T130000
DTSTAMP:20260421T114314
CREATED:20231218T204406Z
LAST-MODIFIED:20231218T204406Z
UID:12910-1705408200-1705410000@wayneseniorcenter.org
SUMMARY:Mindfulness (In Center)
DESCRIPTION:Practicing mindfulness provides countless benefits to our overall well-being. Join instructor Liz for an hour of virtual mindfulness.
URL:https://wayneseniorcenter.org/event/mindfulness-in-center-7/
CATEGORIES:Health and Wellness
END:VEVENT
BEGIN:VEVENT
DTSTART;TZID=UTC:20240116T110000
DTEND;TZID=UTC:20240116T120000
DTSTAMP:20260421T114314
CREATED:20231218T204406Z
LAST-MODIFIED:20231218T204406Z
UID:12911-1705402800-1705406400@wayneseniorcenter.org
SUMMARY:Sit\, Move\, Stretch (In Center and Virtual)
DESCRIPTION:This class offers seated or standing: cardio movement\, strengthening\, deep breathing\, and stretching. In-Person fees – free for WSC members\, $3 for non-members.
URL:https://wayneseniorcenter.org/event/sit-move-stretch-in-center-and-virtual-13/
CATEGORIES:Fitness
END:VEVENT
BEGIN:VEVENT
DTSTART;TZID=UTC:20240116T100000
DTEND;TZID=UTC:20240116T110000
DTSTAMP:20260421T114314
CREATED:20231218T204406Z
LAST-MODIFIED:20231218T204406Z
UID:12913-1705399200-1705402800@wayneseniorcenter.org
SUMMARY:Veteran's Presentation (In Center)
DESCRIPTION:Everything you need to know! Delaware County Office of Military and Veterans Affairs will discuss entitlements\, benefits\, and answer all your questions. Light refreshments will be provided.
URL:https://wayneseniorcenter.org/event/veterans-presentation-in-center/
CATEGORIES:Life Enrichment
END:VEVENT
BEGIN:VEVENT
DTSTART;TZID=UTC:20240116T090000
DTEND;TZID=UTC:20240116T110000
DTSTAMP:20260421T114314
CREATED:20231218T204406Z
LAST-MODIFIED:20231218T204406Z
UID:12912-1705395600-1705402800@wayneseniorcenter.org
SUMMARY:Tech Tuesday (In Center)
DESCRIPTION:Tuesdays from 11am – 1pm stop in to chat Technology. Stop by between programs\, after grabbing some lunch\, or whenever is convenient for you. Bring specific questions about your device or come in to explore Wayne Senior Center iPads in a no-pressure environment. Or\, come by to share recent accomplishments or knowledge you’d like to share with others\, or just stop in to say hi and learn something new. Stop by during this time or email Francis at francis@wayneseniorcenter.org to make an appointment.
URL:https://wayneseniorcenter.org/event/tech-tuesday-in-center-13/
CATEGORIES:Life Enrichment
END:VEVENT
BEGIN:VEVENT
DTSTART;TZID=UTC:20240112T103000
DTEND;TZID=UTC:20240112T113000
DTSTAMP:20260421T114314
CREATED:20231218T204351Z
LAST-MODIFIED:20231218T204945Z
UID:12909-1705055400-1705059000@wayneseniorcenter.org
SUMMARY:Chair Yoga (In Center and Virtual)
DESCRIPTION:A well-rounded class that will help with balance\, strengthening\, and relaxation. Have a sturdy chair available. All abilities welcome. In-Person fees – $3 for WSC members\, $6 for non-members.
URL:https://wayneseniorcenter.org/event/chair-yoga-in-person-and-virtual-9/
CATEGORIES:Fitness
END:VEVENT
BEGIN:VEVENT
DTSTART;TZID=UTC:20240111T130000
DTEND;TZID=UTC:20240111T150000
DTSTAMP:20260421T114314
CREATED:20231218T204336Z
LAST-MODIFIED:20231218T204336Z
UID:12904-1704978000-1704985200@wayneseniorcenter.org
SUMMARY:Cards and Games: Open Play (In Center)
DESCRIPTION:Join us for an afternoon playing games of your choice- Poker\, gin rummy\, pinochle\, mahjong etc. Meet a new friend and start a game of your own. Mahjong teachers/leaders feel free to bring your game set!
URL:https://wayneseniorcenter.org/event/cards-and-games-open-play-in-center-13/
CATEGORIES:Social
END:VEVENT
BEGIN:VEVENT
DTSTART;TZID=UTC:20240111T120000
DTEND;TZID=UTC:20240111T130000
DTSTAMP:20260421T114314
CREATED:20231218T204351Z
LAST-MODIFIED:20231218T204351Z
UID:12906-1704974400-1704978000@wayneseniorcenter.org
SUMMARY:The Men's Group (In Center)
DESCRIPTION:From family stories\, thoughts on retirement\, to the news and a good joke\, come enjoy the company of other men! This men’s only meeting is an opportunity to chat about whatever is on your mind. You may enjoy the Center lunch or bring your own if you wish. Drinks and dessert will be provided.
URL:https://wayneseniorcenter.org/event/the-mens-group-in-center-3/
CATEGORIES:Social
END:VEVENT
BEGIN:VEVENT
DTSTART;TZID=UTC:20240111T110000
DTEND;TZID=UTC:20240111T120000
DTSTAMP:20260421T114314
CREATED:20231218T204351Z
LAST-MODIFIED:20231218T204351Z
UID:12905-1704970800-1704974400@wayneseniorcenter.org
SUMMARY:Sit\, Move\, Stretch (In Center)
DESCRIPTION:Gentle Movement\, stretching\, and relaxation. Free for WSC members\, $3 for non-members. RSVP by calling the center – (610) 688-6246
URL:https://wayneseniorcenter.org/event/sit-move-stretch-in-center-13/
CATEGORIES:Fitness
END:VEVENT
BEGIN:VEVENT
DTSTART;TZID=UTC:20240111T101500
DTEND;TZID=UTC:20240111T110000
DTSTAMP:20260421T114314
CREATED:20231218T204351Z
LAST-MODIFIED:20231218T204351Z
UID:12908-1704968100-1704970800@wayneseniorcenter.org
SUMMARY:Beat the Winter Blahs (In Center)
DESCRIPTION:Come hear some tips on how to best manage the “let down” after holiday excitement combines with shorter and colder days. Join us for hot chocolate to warm our bodies and souls while we share together.
URL:https://wayneseniorcenter.org/event/beat-the-winter-blahs-in-center/
CATEGORIES:Life Enrichment
END:VEVENT
BEGIN:VEVENT
DTSTART;TZID=UTC:20240111T093000
DTEND;TZID=UTC:20240111T103000
DTSTAMP:20260421T114314
CREATED:20231218T204351Z
LAST-MODIFIED:20231218T204351Z
UID:12907-1704965400-1704969000@wayneseniorcenter.org
SUMMARY:Zumba Gold (In Center)
DESCRIPTION:Keep your body moving\, enjoy lively music\, and have fun dancing your cares away. $3 members / $6 non-members
URL:https://wayneseniorcenter.org/event/zumba-gold-in-center-13/
CATEGORIES:Fitness
END:VEVENT
BEGIN:VEVENT
DTSTART;TZID=UTC:20240110T123000
DTEND;TZID=UTC:20240110T133000
DTSTAMP:20260421T114314
CREATED:20231218T204336Z
LAST-MODIFIED:20231218T204336Z
UID:12902-1704889800-1704893400@wayneseniorcenter.org
SUMMARY:Second Chance Holiday Cards (In Center)
DESCRIPTION:Join Barbara Van Clief (Barley) for a fun workshop to reuse and reimagine your beautiful holiday cards. Bring in any special cards you like to make gift tags\, ornaments\, new greeting cards\, and more.
URL:https://wayneseniorcenter.org/event/second-chance-holiday-cards-in-center/
CATEGORIES:Life Enrichment
END:VEVENT
END:VCALENDAR