BEGIN:VCALENDAR
VERSION:2.0
PRODID:-//Wayne Senior Center - ECPv6.15.20//NONSGML v1.0//EN
CALSCALE:GREGORIAN
METHOD:PUBLISH
X-WR-CALNAME:Wayne Senior Center
X-ORIGINAL-URL:https://wayneseniorcenter.org
X-WR-CALDESC:Events for Wayne Senior Center
REFRESH-INTERVAL;VALUE=DURATION:PT1H
X-Robots-Tag:noindex
X-PUBLISHED-TTL:PT1H
BEGIN:VTIMEZONE
TZID:UTC
BEGIN:STANDARD
TZOFFSETFROM:+0000
TZOFFSETTO:+0000
TZNAME:UTC
DTSTART:20220101T000000
END:STANDARD
END:VTIMEZONE
BEGIN:VEVENT
DTSTART;TZID=UTC:20231129T150000
DTEND;TZID=UTC:20231129T160000
DTSTAMP:20260421T114330
CREATED:20231026T134724Z
LAST-MODIFIED:20231026T134724Z
UID:12407-1701270000-1701273600@wayneseniorcenter.org
SUMMARY:Memoir Writing (Virtual)
DESCRIPTION:Join Sara Wenger\, MFA for a memoir writing workshop. Sara will share memoir excerpts as well as writing exercises to help you write your unique life experiences so they can be passed on to children\, grandchildren\, friends and others. No prior writing experience is necessary! The class is appropriate for both novice and seasoned writers
URL:https://wayneseniorcenter.org/event/memoir-writing-virtual/
CATEGORIES:Life Enrichment
END:VEVENT
BEGIN:VEVENT
DTSTART;TZID=UTC:20231129T120000
DTEND;TZID=UTC:20231129T140000
DTSTAMP:20260421T114330
CREATED:20231026T134924Z
LAST-MODIFIED:20231026T140205Z
UID:12411-1701259200-1701266400@wayneseniorcenter.org
SUMMARY:Pizza and a Movie: Heart of Stone (In Center)
DESCRIPTION:Join us for a viewing of the film\, Heart of Stone (2023)\, an American spy action thriller film. Its plot follows an international intelligence operative who must embark on a dangerous mission to protect a mysterious artificial intelligence system known as ‘The Heart.’ $3 for WSC members\, $6 for non-members.
URL:https://wayneseniorcenter.org/event/pizza-and-a-movie-heart-of-stone-in-center/
CATEGORIES:Social
END:VEVENT
BEGIN:VEVENT
DTSTART;TZID=UTC:20231129T110000
DTEND;TZID=UTC:20231129T120000
DTSTAMP:20260421T114330
CREATED:20231026T140014Z
LAST-MODIFIED:20231026T140014Z
UID:12439-1701255600-1701259200@wayneseniorcenter.org
SUMMARY:Tai Chi (In Center and Virtual)
DESCRIPTION:Tai Chi is a gentle form of exercise involving a series of graceful movements performed in a slow\, focused manner and accompanied by deep breathing. Excellent for strengthening balance and promoting stress reduction. In-Person fees – $5 for WSC members\, $10 for non-members.
URL:https://wayneseniorcenter.org/event/tai-chi-in-center-and-virtual-5/
CATEGORIES:Fitness
END:VEVENT
BEGIN:VEVENT
DTSTART;TZID=UTC:20231129T100000
DTEND;TZID=UTC:20231129T110000
DTSTAMP:20260421T114330
CREATED:20231026T135958Z
LAST-MODIFIED:20231026T135958Z
UID:12434-1701252000-1701255600@wayneseniorcenter.org
SUMMARY:Strength and Cardio (Virtual)
DESCRIPTION:Move\, stretch\, and tone both seated and standing along with instructor Cathi from home. All abilities welcome!
URL:https://wayneseniorcenter.org/event/strength-and-cardio-virtual-5/
CATEGORIES:Fitness
END:VEVENT
BEGIN:VEVENT
DTSTART;TZID=UTC:20231129T100000
DTEND;TZID=UTC:20231129T110000
DTSTAMP:20260421T114330
CREATED:20231026T134701Z
LAST-MODIFIED:20231026T134701Z
UID:12400-1701252000-1701255600@wayneseniorcenter.org
SUMMARY:Drums Alive (In Center)
DESCRIPTION:Join us for a fun\, rhythmic\, seated exercise class that gets you moving and grooving!
URL:https://wayneseniorcenter.org/event/drums-alive-in-center-4/
CATEGORIES:Fitness
END:VEVENT
BEGIN:VEVENT
DTSTART;TZID=UTC:20231128T130000
DTEND;TZID=UTC:20231128T140000
DTSTAMP:20260421T114330
CREATED:20231026T134648Z
LAST-MODIFIED:20231026T140233Z
UID:12395-1701176400-1701180000@wayneseniorcenter.org
SUMMARY:Dialing In: Phone Photo Practice (In Center)
DESCRIPTION:Practice taking\, editing\, and sharing photos whether you have an iPhone\, Android\, or a flip-phone. Engage in hands-on practice\, share your knowledge\, and learn from others in this collaborative session. Getting started materials for iPhone and Android will be available to take home as well.
URL:https://wayneseniorcenter.org/event/dialing-in-phone-photo-practice-in-center/
CATEGORIES:Life Enrichment
END:VEVENT
BEGIN:VEVENT
DTSTART;TZID=UTC:20231128T123000
DTEND;TZID=UTC:20231128T130000
DTSTAMP:20260421T114330
CREATED:20231026T134724Z
LAST-MODIFIED:20231026T134724Z
UID:12408-1701174600-1701176400@wayneseniorcenter.org
SUMMARY:Mindfulness (In Center)
DESCRIPTION:Practicing mindfulness provides countless benefits to our overall well-being. Join instructor Liz for an hour of virtual mindfulness.
URL:https://wayneseniorcenter.org/event/mindfulness-in-center/
CATEGORIES:Health and Wellness
END:VEVENT
BEGIN:VEVENT
DTSTART;TZID=UTC:20231128T120000
DTEND;TZID=UTC:20231128T130000
DTSTAMP:20260421T114330
CREATED:20231026T134709Z
LAST-MODIFIED:20231026T134709Z
UID:12405-1701172800-1701176400@wayneseniorcenter.org
SUMMARY:Let's Do Lunch! - Live in the Blue Zone (In Center)
DESCRIPTION:Let’s do lunch together in the Center! Continuing with the principles of the Blue Zone\, we enjoy the bounty of the season this month with roasted soups\, roasted and toasted salads (featuring a different great grain each week)\, and a sweet treat from The Blue Zone Cookbook. Enjoy an additional healthy crafter option from our very own kitchen. The menu will change weekly. $5 for members\, $8 for non-members. Call for more information and to reserve a meal\, limited servings available – (610)688-6246
URL:https://wayneseniorcenter.org/event/lets-do-lunch-live-in-the-blue-zone-in-center-3/
CATEGORIES:Social
END:VEVENT
BEGIN:VEVENT
DTSTART;TZID=UTC:20231128T110000
DTEND;TZID=UTC:20231128T130000
DTSTAMP:20260421T114330
CREATED:20231026T140027Z
LAST-MODIFIED:20231026T140027Z
UID:12441-1701169200-1701176400@wayneseniorcenter.org
SUMMARY:Tech Tuesday (In Center)
DESCRIPTION:Tuesdays from 11am – 1pm stop in to chat Technology. Stop by between programs\, after grabbing some lunch\, or whenever is convenient for you. Bring specific questions about your device or come in to explore Wayne Senior Center iPads in a no-pressure environment. Or\, come by to share recent accomplishments or knowledge you’d like to share with others\, or just stop in to say hi and learn something new. Stop by during this time or email Francis at francis@wayneseniorcenter.org to make an appointment.
URL:https://wayneseniorcenter.org/event/tech-tuesday-in-center-2/
CATEGORIES:Life Enrichment
END:VEVENT
BEGIN:VEVENT
DTSTART;TZID=UTC:20231128T110000
DTEND;TZID=UTC:20231128T120000
DTSTAMP:20260421T114330
CREATED:20231026T135125Z
LAST-MODIFIED:20231026T135125Z
UID:12420-1701169200-1701172800@wayneseniorcenter.org
SUMMARY:Sit\, Move\, Stretch (In Center and Virtual)
DESCRIPTION:This class offers seated or standing: cardio movement\, strengthening\, deep breathing\, and stretching. In-Person fees – free for WSC members\, $3 for non-members.
URL:https://wayneseniorcenter.org/event/sit-move-stretch-in-center-and-virtual-2/
CATEGORIES:Fitness
END:VEVENT
BEGIN:VEVENT
DTSTART;TZID=UTC:20231128T100000
DTEND;TZID=UTC:20231128T120000
DTSTAMP:20260421T114330
CREATED:20231026T134547Z
LAST-MODIFIED:20231026T134547Z
UID:12378-1701165600-1701172800@wayneseniorcenter.org
SUMMARY:Ask a Nurse (In Center)
DESCRIPTION:Are you trying to keep track of your blood pressure readings? Have questions about a medication or just need a listening ear? Stop by and speak 1:1 with a nurse.
URL:https://wayneseniorcenter.org/event/ask-a-nurse-in-center/
CATEGORIES:Life Enrichment
END:VEVENT
BEGIN:VEVENT
DTSTART;TZID=UTC:20231127T130000
DTEND;TZID=UTC:20231127T140000
DTSTAMP:20260421T114330
CREATED:20231026T135525Z
LAST-MODIFIED:20231026T135525Z
UID:12429-1701090000-1701093600@wayneseniorcenter.org
SUMMARY:Strength and Balance (Virtual)
DESCRIPTION:Move\, stretch\, and improve your balance\, both seated and standing\, along with instructor Cathi from home. All abilities welcome!
URL:https://wayneseniorcenter.org/event/strength-and-balance-virtual-4/
CATEGORIES:Fitness
END:VEVENT
BEGIN:VEVENT
DTSTART;TZID=UTC:20231127T130000
DTEND;TZID=UTC:20231127T140000
DTSTAMP:20260421T114330
CREATED:20231026T134708Z
LAST-MODIFIED:20231026T134708Z
UID:12402-1701090000-1701093600@wayneseniorcenter.org
SUMMARY:Holiday Candles (In Center)
DESCRIPTION:Create your own custom candle to burn during the holidays or gift to a loved one!
URL:https://wayneseniorcenter.org/event/holiday-candles-in-center/
CATEGORIES:Life Enrichment
END:VEVENT
BEGIN:VEVENT
DTSTART;TZID=UTC:20231127T100000
DTEND;TZID=UTC:20231127T120000
DTSTAMP:20260421T114330
CREATED:20231026T140033Z
LAST-MODIFIED:20231026T140033Z
UID:12450-1701079200-1701086400@wayneseniorcenter.org
SUMMARY:WSC Quilters (In Center)
DESCRIPTION:WSC quiliting club. All skill levels Welcome. Come by or RSVP by calling the center – (610) 688-6246
URL:https://wayneseniorcenter.org/event/wsc-quilters-in-center-4/
CATEGORIES:Social
END:VEVENT
BEGIN:VEVENT
DTSTART;TZID=UTC:20231127T100000
DTEND;TZID=UTC:20231127T120000
DTSTAMP:20260421T114330
CREATED:20231026T134925Z
LAST-MODIFIED:20231026T134925Z
UID:12415-1701079200-1701086400@wayneseniorcenter.org
SUMMARY:Refresher Bridge (In Center)
DESCRIPTION:Brush up on your bridge skills with Lawrie Stetson and Dave Heron. Must have previous bridge experience.
URL:https://wayneseniorcenter.org/event/refresher-bridge-in-center-4/
CATEGORIES:Social
END:VEVENT
BEGIN:VEVENT
DTSTART;TZID=UTC:20231127T100000
DTEND;TZID=UTC:20231127T110000
DTSTAMP:20260421T114330
CREATED:20231026T134549Z
LAST-MODIFIED:20231026T134549Z
UID:12384-1701079200-1701082800@wayneseniorcenter.org
SUMMARY:Brain Games (In Center)
DESCRIPTION:Exercise your brain and work through word games\, word scrambles and brain teasers.
URL:https://wayneseniorcenter.org/event/brain-games-in-center-4/
CATEGORIES:Life Enrichment
END:VEVENT
BEGIN:VEVENT
DTSTART;TZID=UTC:20231122T110000
DTEND;TZID=UTC:20231122T120000
DTSTAMP:20260421T114330
CREATED:20231026T140014Z
LAST-MODIFIED:20231026T140014Z
UID:12438-1700650800-1700654400@wayneseniorcenter.org
SUMMARY:Tai Chi (In Center and Virtual)
DESCRIPTION:Tai Chi is a gentle form of exercise involving a series of graceful movements performed in a slow\, focused manner and accompanied by deep breathing. Excellent for strengthening balance and promoting stress reduction. In-Person fees – $5 for WSC members\, $10 for non-members.
URL:https://wayneseniorcenter.org/event/tai-chi-in-center-and-virtual-4/
CATEGORIES:Fitness
END:VEVENT
BEGIN:VEVENT
DTSTART;TZID=UTC:20231122T110000
DTEND;TZID=UTC:20231122T120000
DTSTAMP:20260421T114330
CREATED:20231026T134724Z
LAST-MODIFIED:20231026T134724Z
UID:12410-1700650800-1700654400@wayneseniorcenter.org
SUMMARY:Pageturners Bookclub (In Center)
DESCRIPTION:Book club returns! This month’s selection is “Directed by James Burrows” by James Burrows. Enjoy lively book conversation with a Radnor Memorial Library librarian. All are welcome! Call for more info – (610)688-6246
URL:https://wayneseniorcenter.org/event/pageturners-bookclub-in-center/
CATEGORIES:Life Enrichment
END:VEVENT
BEGIN:VEVENT
DTSTART;TZID=UTC:20231122T100000
DTEND;TZID=UTC:20231122T110000
DTSTAMP:20260421T114330
CREATED:20231026T135958Z
LAST-MODIFIED:20231026T135958Z
UID:12433-1700647200-1700650800@wayneseniorcenter.org
SUMMARY:Strength and Cardio (Virtual)
DESCRIPTION:Move\, stretch\, and tone both seated and standing along with instructor Cathi from home. All abilities welcome!
URL:https://wayneseniorcenter.org/event/strength-and-cardio-virtual-4/
CATEGORIES:Fitness
END:VEVENT
BEGIN:VEVENT
DTSTART;TZID=UTC:20231122T100000
DTEND;TZID=UTC:20231122T110000
DTSTAMP:20260421T114330
CREATED:20231026T134648Z
LAST-MODIFIED:20231026T134648Z
UID:12393-1700647200-1700650800@wayneseniorcenter.org
SUMMARY:Coffee with Chaplains (In Center)
DESCRIPTION:Enjoy coffee\, pastries\, and meaningful discussion with a visiting Radnor Police Chaplain.
URL:https://wayneseniorcenter.org/event/coffee-with-chaplains-in-center/
CATEGORIES:Life Enrichment
END:VEVENT
BEGIN:VEVENT
DTSTART;TZID=UTC:20231121T120000
DTEND;TZID=UTC:20231121T130000
DTSTAMP:20260421T114330
CREATED:20231026T134708Z
LAST-MODIFIED:20231026T140300Z
UID:12404-1700568000-1700571600@wayneseniorcenter.org
SUMMARY:Let's Do Lunch! - Live in the Blue Zone (In Center)
DESCRIPTION:Let’s do lunch together in the Center! Continuing with the principles of the Blue Zone\, we enjoy the bounty of the season this month with roasted soups\, roasted and toasted salads (featuring a different great grain each week)\, and a sweet treat from The Blue Zone Cookbook. Enjoy an additional healthy crafter option from our very own kitchen. The menu will change weekly. $5 for members\, $8 for non-members. Call for more information and to reserve a meal\, limited servings available – (610)688-6246
URL:https://wayneseniorcenter.org/event/lets-do-lunch-live-in-the-blue-zone-in-center-2/
CATEGORIES:Social
END:VEVENT
BEGIN:VEVENT
DTSTART;TZID=UTC:20231121T110000
DTEND;TZID=UTC:20231121T120000
DTSTAMP:20260421T114330
CREATED:20231026T135125Z
LAST-MODIFIED:20231026T135125Z
UID:12419-1700564400-1700568000@wayneseniorcenter.org
SUMMARY:Sit\, Move\, Stretch (In Center and Virtual)
DESCRIPTION:This class offers seated or standing: cardio movement\, strengthening\, deep breathing\, and stretching. In-Person fees – free for WSC members\, $3 for non-members.
URL:https://wayneseniorcenter.org/event/sit-move-stretch-in-center-and-virtual/
CATEGORIES:Fitness
END:VEVENT
BEGIN:VEVENT
DTSTART;TZID=UTC:20231121T100000
DTEND;TZID=UTC:20231121T110000
DTSTAMP:20260421T114330
CREATED:20231026T135325Z
LAST-MODIFIED:20231026T135325Z
UID:12425-1700560800-1700564400@wayneseniorcenter.org
SUMMARY:Sleep Presentation (In Center)
DESCRIPTION:Join Bob Cardie\, DPT\, LPT from Main Line Health HomeCare and Hospice for this presentation on the importance of sleep.
URL:https://wayneseniorcenter.org/event/sleep-presentation-in-center/
CATEGORIES:Life Enrichment
END:VEVENT
BEGIN:VEVENT
DTSTART;TZID=UTC:20231120T170000
DTEND;TZID=UTC:20231120T180000
DTSTAMP:20260421T114330
CREATED:20231026T134701Z
LAST-MODIFIED:20231026T134701Z
UID:12396-1700499600-1700503200@wayneseniorcenter.org
SUMMARY:Dinner with Friends (In Center)
DESCRIPTION:Come reconnect with old friends and make new acquaintances! We will gather casually to enjoy each others company and chat about a variety of interesting topics. Bring your own dinner\, we will provide drinks and dessert. Please RSVP by July 21st. Call to RSVP – (610)688-6246
URL:https://wayneseniorcenter.org/event/dinner-with-friends-in-center/
CATEGORIES:Social
END:VEVENT
BEGIN:VEVENT
DTSTART;TZID=UTC:20231120T140000
DTEND;TZID=UTC:20231120T150000
DTSTAMP:20260421T114330
CREATED:20231026T135125Z
LAST-MODIFIED:20231026T140945Z
UID:12417-1700488800-1700492400@wayneseniorcenter.org
SUMMARY:Seasons: Grief and Loss Group (In Center)
DESCRIPTION:Join others in a safe space to listen\, share\, and heal in conversation about losses you have experienced. We will learn how grief can affect our everyday life and ways to manage the range of feelings and symptoms.
URL:https://wayneseniorcenter.org/event/seasons-grief-and-loss-group-in-center-2/
CATEGORIES:Social
END:VEVENT
BEGIN:VEVENT
DTSTART;TZID=UTC:20231120T130000
DTEND;TZID=UTC:20231120T140000
DTSTAMP:20260421T114330
CREATED:20231026T135525Z
LAST-MODIFIED:20231026T135525Z
UID:12428-1700485200-1700488800@wayneseniorcenter.org
SUMMARY:Strength and Balance (Virtual)
DESCRIPTION:Move\, stretch\, and improve your balance\, both seated and standing\, along with instructor Cathi from home. All abilities welcome!
URL:https://wayneseniorcenter.org/event/strength-and-balance-virtual-3/
CATEGORIES:Fitness
END:VEVENT
BEGIN:VEVENT
DTSTART;TZID=UTC:20231120T100000
DTEND;TZID=UTC:20231120T120000
DTSTAMP:20260421T114330
CREATED:20231026T140033Z
LAST-MODIFIED:20231026T140033Z
UID:12449-1700474400-1700481600@wayneseniorcenter.org
SUMMARY:WSC Quilters (In Center)
DESCRIPTION:WSC quiliting club. All skill levels Welcome. Come by or RSVP by calling the center – (610) 688-6246
URL:https://wayneseniorcenter.org/event/wsc-quilters-in-center-3/
CATEGORIES:Social
END:VEVENT
BEGIN:VEVENT
DTSTART;TZID=UTC:20231120T100000
DTEND;TZID=UTC:20231120T120000
DTSTAMP:20260421T114330
CREATED:20231026T134925Z
LAST-MODIFIED:20231026T134925Z
UID:12414-1700474400-1700481600@wayneseniorcenter.org
SUMMARY:Refresher Bridge (In Center)
DESCRIPTION:Brush up on your bridge skills with Lawrie Stetson and Dave Heron. Must have previous bridge experience.
URL:https://wayneseniorcenter.org/event/refresher-bridge-in-center-3/
CATEGORIES:Social
END:VEVENT
BEGIN:VEVENT
DTSTART;TZID=UTC:20231120T100000
DTEND;TZID=UTC:20231120T110000
DTSTAMP:20260421T114330
CREATED:20231026T134549Z
LAST-MODIFIED:20231026T134549Z
UID:12383-1700474400-1700478000@wayneseniorcenter.org
SUMMARY:Brain Games (In Center)
DESCRIPTION:Exercise your brain and work through word games\, word scrambles and brain teasers.
URL:https://wayneseniorcenter.org/event/brain-games-in-center-3/
CATEGORIES:Life Enrichment
END:VEVENT
BEGIN:VEVENT
DTSTART;TZID=UTC:20231117T113000
DTEND;TZID=UTC:20231117T123000
DTSTAMP:20260421T114330
CREATED:20231026T140028Z
LAST-MODIFIED:20231026T140028Z
UID:12445-1700220600-1700224200@wayneseniorcenter.org
SUMMARY:Trivia (Virtual)
DESCRIPTION:Test your knowledge through general trivia questions and puzzles.
URL:https://wayneseniorcenter.org/event/trivia-virtual/
CATEGORIES:Life Enrichment
END:VEVENT
END:VCALENDAR