BEGIN:VCALENDAR
VERSION:2.0
PRODID:-//Wayne Senior Center - ECPv6.15.20//NONSGML v1.0//EN
CALSCALE:GREGORIAN
METHOD:PUBLISH
X-WR-CALNAME:Wayne Senior Center
X-ORIGINAL-URL:https://wayneseniorcenter.org
X-WR-CALDESC:Events for Wayne Senior Center
REFRESH-INTERVAL;VALUE=DURATION:PT1H
X-Robots-Tag:noindex
X-PUBLISHED-TTL:PT1H
BEGIN:VTIMEZONE
TZID:UTC
BEGIN:STANDARD
TZOFFSETFROM:+0000
TZOFFSETTO:+0000
TZNAME:UTC
DTSTART:20250101T000000
END:STANDARD
END:VTIMEZONE
BEGIN:VEVENT
DTSTART;TZID=UTC:20260422T100000
DTEND;TZID=UTC:20260422T110000
DTSTAMP:20260422T015018
CREATED:20260326T184145Z
LAST-MODIFIED:20260326T184145Z
UID:16762-1776852000-1776855600@wayneseniorcenter.org
SUMMARY:Earth Day Trivia
DESCRIPTION:Celebrate Earth Day with a fun round of trivia all about our planet! Test your knowledge of nature\, wildlife\, and simple ways we can care for the Earth while enjoying some friendly competition.
URL:https://wayneseniorcenter.org/event/earth-day-trivia/
END:VEVENT
BEGIN:VEVENT
DTSTART;TZID=UTC:20260422T111500
DTEND;TZID=UTC:20260422T120000
DTSTAMP:20260422T015018
CREATED:20260326T184141Z
LAST-MODIFIED:20260326T184141Z
UID:16760-1776856500-1776859200@wayneseniorcenter.org
SUMMARY:Soul Line Dancing
DESCRIPTION:Kenny James will get you moving and grooving in a fun\, easy to learn dance class. No experience necessary – all can join. $3 members / $6 non-members.
URL:https://wayneseniorcenter.org/event/soul-line-dancing-123/
END:VEVENT
BEGIN:VEVENT
DTSTART;TZID=UTC:20260422T123000
DTEND;TZID=UTC:20260422T133000
DTSTAMP:20260422T015018
CREATED:20260326T184133Z
LAST-MODIFIED:20260326T184133Z
UID:16758-1776861000-1776864600@wayneseniorcenter.org
SUMMARY:Fooling with Ukes
DESCRIPTION:Dust off your ukes and join Barbara Van Clief (Barley) for a few practice sessions. Learn to play various popular songs with a group of individuals who share your passion for music!
URL:https://wayneseniorcenter.org/event/fooling-with-ukes-61/
END:VEVENT
BEGIN:VEVENT
DTSTART;TZID=UTC:20260422T123000
DTEND;TZID=UTC:20260422T133000
DTSTAMP:20260422T015018
CREATED:20260326T184136Z
LAST-MODIFIED:20260326T184136Z
UID:16759-1776861000-1776864600@wayneseniorcenter.org
SUMMARY:Silver Sneakers Classic
DESCRIPTION:Focus on strengthening muscles and increasing range of motion using light weights\, stretch bands\, and exercise balls.
URL:https://wayneseniorcenter.org/event/silver-sneakers-classic-145/
END:VEVENT
BEGIN:VEVENT
DTSTART;TZID=UTC:20260422T133000
DTEND;TZID=UTC:20260422T153000
DTSTAMP:20260422T015018
CREATED:20260326T192517Z
LAST-MODIFIED:20260326T192517Z
UID:16797-1776864600-1776871800@wayneseniorcenter.org
SUMMARY:Drop-in Tech Help
DESCRIPTION:Stop by during this time with your tech questions or email Francis at francis@wayneseniorcenter.org to make an appointment.
URL:https://wayneseniorcenter.org/event/drop-in-tech-help-10/
END:VEVENT
BEGIN:VEVENT
DTSTART;TZID=UTC:20260422T140000
DTEND;TZID=UTC:20260422T150000
DTSTAMP:20260422T015018
CREATED:20260326T184143Z
LAST-MODIFIED:20260326T184143Z
UID:16761-1776866400-1776870000@wayneseniorcenter.org
SUMMARY:Tai Chi
DESCRIPTION:Tai Chi is a gentle form of exercise involving a series of graceful movements performed in a slow\, focused manner and accompanied by deep breathing. Excellent for strengthening balance and promoting stress reduction. In-Person fees – $5 for WSC members\, $10 for non-members.
URL:https://wayneseniorcenter.org/event/tai-chi-86/
END:VEVENT
END:VCALENDAR