BEGIN:VCALENDAR
VERSION:2.0
PRODID:-//Wayne Senior Center - ECPv6.15.20//NONSGML v1.0//EN
CALSCALE:GREGORIAN
METHOD:PUBLISH
X-WR-CALNAME:Wayne Senior Center
X-ORIGINAL-URL:https://wayneseniorcenter.org
X-WR-CALDESC:Events for Wayne Senior Center
REFRESH-INTERVAL;VALUE=DURATION:PT1H
X-Robots-Tag:noindex
X-PUBLISHED-TTL:PT1H
BEGIN:VTIMEZONE
TZID:UTC
BEGIN:STANDARD
TZOFFSETFROM:+0000
TZOFFSETTO:+0000
TZNAME:UTC
DTSTART:20250101T000000
END:STANDARD
END:VTIMEZONE
BEGIN:VEVENT
DTSTART;TZID=UTC:20260421T090000
DTEND;TZID=UTC:20260421T110000
DTSTAMP:20260421T094958
CREATED:20260326T184125Z
LAST-MODIFIED:20260326T184125Z
UID:16755-1776762000-1776769200@wayneseniorcenter.org
SUMMARY:Tech Tuesday
DESCRIPTION:Stop by during this time with your tech questions or email Francis at francis@wayneseniorcenter.org to make an appointment. Some Tuesdays will feature a workshop on a certain topic starting at 10am.
URL:https://wayneseniorcenter.org/event/tech-tuesday-59/
END:VEVENT
BEGIN:VEVENT
DTSTART;TZID=UTC:20260421T093000
DTEND;TZID=UTC:20260421T103000
DTSTAMP:20260421T094958
CREATED:20260326T184128Z
LAST-MODIFIED:20260326T192919Z
UID:16756-1776763800-1776767400@wayneseniorcenter.org
SUMMARY:Walking Club
DESCRIPTION:Join WSC friends for a walk on the Radnor trail – weather permitting. Walkers meet at the trail parking lot (520 Conestoga Road). All abilities welcome. Wear comfortable walking shoes.
URL:https://wayneseniorcenter.org/event/walking-club-3/
ATTACH;FMTTYPE=image/png:https://wayneseniorcenter.org/wp-content/uploads/2026/03/Walking-Club.png
END:VEVENT
BEGIN:VEVENT
DTSTART;TZID=UTC:20260421T103000
DTEND;TZID=UTC:20260421T113000
DTSTAMP:20260421T094958
CREATED:20260326T184131Z
LAST-MODIFIED:20260326T184131Z
UID:16757-1776767400-1776771000@wayneseniorcenter.org
SUMMARY:Celebrating Earth Day
DESCRIPTION:Celebrate Earth Day with Fitness Instructor Liz Seadon in a refreshing program that highlights the powerful connection between mindfulness and the natural world. This uplifting session is a wonderful way to honor the earth—encouraging appreciation\, balance\, and a deeper connection to the world around us.
URL:https://wayneseniorcenter.org/event/celebrating-earth-day-2/
END:VEVENT
BEGIN:VEVENT
DTSTART;TZID=UTC:20260421T110000
DTEND;TZID=UTC:20260421T120000
DTSTAMP:20260421T094958
CREATED:20260326T184120Z
LAST-MODIFIED:20260326T184120Z
UID:16754-1776769200-1776772800@wayneseniorcenter.org
SUMMARY:Sit\, Move\, Stretch
DESCRIPTION:This class offers seated or standing: cardio movement\, strengthening\, deep breathing\, and stretching. In-Person fees – free for WSC members\, $3 for non-members.
URL:https://wayneseniorcenter.org/event/sit-move-stretch-146/
END:VEVENT
BEGIN:VEVENT
DTSTART;TZID=UTC:20260421T123000
DTEND;TZID=UTC:20260421T133000
DTSTAMP:20260421T094958
CREATED:20260326T184117Z
LAST-MODIFIED:20260326T184117Z
UID:16753-1776774600-1776778200@wayneseniorcenter.org
SUMMARY:Mindfulness
DESCRIPTION:Practicing mindfulness provides countless benefits to our overall well-being. Join instructor Liz for an hour of virtual mindfulness.
URL:https://wayneseniorcenter.org/event/mindfulness-75/
END:VEVENT
END:VCALENDAR