BEGIN:VCALENDAR
VERSION:2.0
PRODID:-//Wayne Senior Center - ECPv6.15.20//NONSGML v1.0//EN
CALSCALE:GREGORIAN
METHOD:PUBLISH
X-ORIGINAL-URL:https://wayneseniorcenter.org
X-WR-CALDESC:Events for Wayne Senior Center
REFRESH-INTERVAL;VALUE=DURATION:PT1H
X-Robots-Tag:noindex
X-PUBLISHED-TTL:PT1H
BEGIN:VTIMEZONE
TZID:UTC
BEGIN:STANDARD
TZOFFSETFROM:+0000
TZOFFSETTO:+0000
TZNAME:UTC
DTSTART:20240101T000000
END:STANDARD
END:VTIMEZONE
BEGIN:VEVENT
DTSTART;TZID=UTC:20250423T100000
DTEND;TZID=UTC:20250423T110000
DTSTAMP:20260421T115240
CREATED:20250327T191448Z
LAST-MODIFIED:20250327T191448Z
UID:15052-1745402400-1745406000@wayneseniorcenter.org
SUMMARY:Lifelong Learners Series
DESCRIPTION:Join Andrea as we empower our mind and expand our horizons. Each month we will pursue a subject you’ve always been curious about. This program provides diverse opportunities for learning throughout your life. In April we will go on a quirky and enlightening journey through the most bizarre\, strange\, and downright weird laws from across the globe.
URL:https://wayneseniorcenter.org/event/lifelong-learners-series-2/
END:VEVENT
BEGIN:VEVENT
DTSTART;TZID=UTC:20250423T111500
DTEND;TZID=UTC:20250423T120000
DTSTAMP:20260421T115240
CREATED:20250327T191448Z
LAST-MODIFIED:20250327T191448Z
UID:15051-1745406900-1745409600@wayneseniorcenter.org
SUMMARY:Soul Line Dancing
DESCRIPTION:Kenny James will get you moving and grooving in a fun\, easy to learn dance class. No experience necessary – all can join. $3 members / $6 non-members.
URL:https://wayneseniorcenter.org/event/soul-line-dancing-28/
END:VEVENT
BEGIN:VEVENT
DTSTART;TZID=UTC:20250423T123000
DTEND;TZID=UTC:20250423T133000
DTSTAMP:20260421T115240
CREATED:20250327T191447Z
LAST-MODIFIED:20250327T191447Z
UID:15049-1745411400-1745415000@wayneseniorcenter.org
SUMMARY:Fooling with Ukes
DESCRIPTION:Dust off your ukes and join Barbara Van Clief (Barley) for a few practice sessions. Learn to play various popular songs with a group of individuals who share your passion for music!
URL:https://wayneseniorcenter.org/event/fooling-with-ukes-20/
END:VEVENT
BEGIN:VEVENT
DTSTART;TZID=UTC:20250423T123000
DTEND;TZID=UTC:20250423T133000
DTSTAMP:20260421T115240
CREATED:20250327T191448Z
LAST-MODIFIED:20250327T191448Z
UID:15050-1745411400-1745415000@wayneseniorcenter.org
SUMMARY:Silver Sneakers Classic
DESCRIPTION:Focus on strengthening muscles and increasing range of motion using light weights\, stretch bands\, and exercise balls.
URL:https://wayneseniorcenter.org/event/silver-sneakers-classic-50/
END:VEVENT
BEGIN:VEVENT
DTSTART;TZID=UTC:20250423T140000
DTEND;TZID=UTC:20250423T150000
DTSTAMP:20260421T115240
CREATED:20250327T191449Z
LAST-MODIFIED:20250327T191449Z
UID:15053-1745416800-1745420400@wayneseniorcenter.org
SUMMARY:Afternoon of Beauty with Beke Beau
DESCRIPTION:Makeup for Grown-ups: Look Your Best Now! Professional makeup artist Beke Beau will share her best tips and answer your beauty questions. Beauty basket raffles and refreshments served. $10 members\, $15 non-members. RSVP by April 16th. Event proceeds support our 2025 Delco Gives campaign.
URL:https://wayneseniorcenter.org/event/afternoon-of-beauty-with-beke-beau/
END:VEVENT
END:VCALENDAR