BEGIN:VCALENDAR
VERSION:2.0
PRODID:-//Wayne Senior Center - ECPv6.15.20//NONSGML v1.0//EN
CALSCALE:GREGORIAN
METHOD:PUBLISH
X-WR-CALNAME:Wayne Senior Center
X-ORIGINAL-URL:https://wayneseniorcenter.org
X-WR-CALDESC:Events for Wayne Senior Center
REFRESH-INTERVAL;VALUE=DURATION:PT1H
X-Robots-Tag:noindex
X-PUBLISHED-TTL:PT1H
BEGIN:VTIMEZONE
TZID:UTC
BEGIN:STANDARD
TZOFFSETFROM:+0000
TZOFFSETTO:+0000
TZNAME:UTC
DTSTART:20240101T000000
END:STANDARD
END:VTIMEZONE
BEGIN:VEVENT
DTSTART;TZID=UTC:20250422T093000
DTEND;TZID=UTC:20250422T103000
DTSTAMP:20260421T133438
CREATED:20250327T191434Z
LAST-MODIFIED:20250327T191434Z
UID:15047-1745314200-1745317800@wayneseniorcenter.org
SUMMARY:Walking Club
DESCRIPTION:It’s back! Join Margo and Andrea and some WSC friends for a walk on the Radnor trail – weather permitting. Walkers meet at the trail parking lot (520 Conestoga Rd). All  abilities welcome. Wear comfortable walking shoes and bring a bottle of water.
URL:https://wayneseniorcenter.org/event/walking-club/
END:VEVENT
BEGIN:VEVENT
DTSTART;TZID=UTC:20250422T093000
DTEND;TZID=UTC:20250422T103000
DTSTAMP:20260421T133438
CREATED:20250327T191434Z
LAST-MODIFIED:20250327T191434Z
UID:15048-1745314200-1745317800@wayneseniorcenter.org
SUMMARY:Celebrating Earth Day
DESCRIPTION:Join us this Earth Day as we celebrate our planet and the importance of protecting it! We’ll honor the day with fun Earth Day inpsired trivia and by creating our own all-natural cleaning products. Let’s come together to learn\, create\, and make a positive impact on our environment. Cost for the craft is $3 for both members & non-members.
URL:https://wayneseniorcenter.org/event/celebrating-earth-day/
END:VEVENT
BEGIN:VEVENT
DTSTART;TZID=UTC:20250422T110000
DTEND;TZID=UTC:20250422T120000
DTSTAMP:20260421T133438
CREATED:20250327T191433Z
LAST-MODIFIED:20250327T191433Z
UID:15046-1745319600-1745323200@wayneseniorcenter.org
SUMMARY:Sit\, Move\, Stretch
DESCRIPTION:This class offers seated or standing: cardio movement\, strengthening\, deep breathing\, and stretching. In-Person fees – free for WSC members\, $3 for non-members.
URL:https://wayneseniorcenter.org/event/sit-move-stretch-52/
END:VEVENT
BEGIN:VEVENT
DTSTART;TZID=UTC:20250422T120000
DTEND;TZID=UTC:20250422T130000
DTSTAMP:20260421T133438
CREATED:20250327T191419Z
LAST-MODIFIED:20250327T191419Z
UID:15043-1745323200-1745326800@wayneseniorcenter.org
SUMMARY:Let's Do Lunch!
DESCRIPTION:Let’s do lunch together! Please see the menu in the newsletter for details on each meal. $5 members / $8 non-members. RSVP required\, in-center dining only.
URL:https://wayneseniorcenter.org/event/lets-do-lunch-13/
END:VEVENT
BEGIN:VEVENT
DTSTART;TZID=UTC:20250422T123000
DTEND;TZID=UTC:20250422T133000
DTSTAMP:20260421T133438
CREATED:20250327T191433Z
LAST-MODIFIED:20250327T191433Z
UID:15045-1745325000-1745328600@wayneseniorcenter.org
SUMMARY:Mindfulness
DESCRIPTION:Practicing mindfulness provides countless benefits to our overall well-being. Join instructor Liz for an hour of virtual mindfulness.
URL:https://wayneseniorcenter.org/event/mindfulness-27/
END:VEVENT
BEGIN:VEVENT
DTSTART;TZID=UTC:20250422T150000
DTEND;TZID=UTC:20250422T160000
DTSTAMP:20260421T133438
CREATED:20250327T191432Z
LAST-MODIFIED:20250327T191432Z
UID:15044-1745334000-1745337600@wayneseniorcenter.org
SUMMARY:Memoir Writing (Virtual)
DESCRIPTION:Join Sara Wenger\, MFA for a memoir writing workshop. Sara will share memoir excerpts as well as writing exercises to help you write your unique life experiences so they can be passed on to children\, grandchildren\, friends and others. No prior writing experience is necessary! The class is appropriate for both novice and seasoned writers
URL:https://wayneseniorcenter.org/event/memoir-writing-virtual-19/
END:VEVENT
END:VCALENDAR