BEGIN:VCALENDAR
VERSION:2.0
PRODID:-//Wayne Senior Center - ECPv6.15.20//NONSGML v1.0//EN
CALSCALE:GREGORIAN
METHOD:PUBLISH
X-ORIGINAL-URL:https://wayneseniorcenter.org
X-WR-CALDESC:Events for Wayne Senior Center
REFRESH-INTERVAL;VALUE=DURATION:PT1H
X-Robots-Tag:noindex
X-PUBLISHED-TTL:PT1H
BEGIN:VTIMEZONE
TZID:UTC
BEGIN:STANDARD
TZOFFSETFROM:+0000
TZOFFSETTO:+0000
TZNAME:UTC
DTSTART:20240101T000000
END:STANDARD
END:VTIMEZONE
BEGIN:VEVENT
DTSTART;TZID=UTC:20250416T100000
DTEND;TZID=UTC:20250416T110000
DTSTAMP:20260422T000659
CREATED:20250327T191349Z
LAST-MODIFIED:20250327T191349Z
UID:15033-1744797600-1744801200@wayneseniorcenter.org
SUMMARY:Armchair Travel
DESCRIPTION:Join Andrea for an exciting armchair travel experience to Brazil! Explore the vibrant culture\, stunning landscapes\, and rich history of this fascinating country\, all from the comfort of your seat. Don’t miss this virtual adventure to one of South America’s most dynamic destinations!
URL:https://wayneseniorcenter.org/event/armchair-travel/
END:VEVENT
BEGIN:VEVENT
DTSTART;TZID=UTC:20250416T110000
DTEND;TZID=UTC:20250416T120000
DTSTAMP:20260422T000659
CREATED:20250327T191347Z
LAST-MODIFIED:20250327T191347Z
UID:15029-1744801200-1744804800@wayneseniorcenter.org
SUMMARY:Pageturner's Bookclub
DESCRIPTION:Enjoy lively book conversation with a Radnor Memorial Library librarian. All are welcome! This month we will be discussing “Night Watch” by Jayne Anne Phillips. In 1874\, in the wake of the Civil War\, 12-year-old ConaLee and her mother Eliza who hasn’t spoken in more than a year\, seek refuge in a West Virginia mental asylum where they get swept up in the life of the facility – and the mystery behind the man they call the Night Watch. Call for more info – (610)688-6246
URL:https://wayneseniorcenter.org/event/pageturners-bookclub-7/
END:VEVENT
BEGIN:VEVENT
DTSTART;TZID=UTC:20250416T111500
DTEND;TZID=UTC:20250416T120000
DTSTAMP:20260422T000659
CREATED:20250327T191348Z
LAST-MODIFIED:20250327T191348Z
UID:15031-1744802100-1744804800@wayneseniorcenter.org
SUMMARY:Soul Line Dancing
DESCRIPTION:Kenny James will get you moving and grooving in a fun\, easy to learn dance class. No experience necessary – all can join. $3 members / $6 non-members.
URL:https://wayneseniorcenter.org/event/soul-line-dancing-26/
END:VEVENT
BEGIN:VEVENT
DTSTART;TZID=UTC:20250416T123000
DTEND;TZID=UTC:20250416T133000
DTSTAMP:20260422T000659
CREATED:20250327T191334Z
LAST-MODIFIED:20250327T191334Z
UID:15028-1744806600-1744810200@wayneseniorcenter.org
SUMMARY:Fooling with Ukes
DESCRIPTION:Dust off your ukes and join Barbara Van Clief (Barley) for a few practice sessions. Learn to play various popular songs with a group of individuals who share your passion for music!
URL:https://wayneseniorcenter.org/event/fooling-with-ukes-19/
END:VEVENT
BEGIN:VEVENT
DTSTART;TZID=UTC:20250416T123000
DTEND;TZID=UTC:20250416T133000
DTSTAMP:20260422T000659
CREATED:20250327T191348Z
LAST-MODIFIED:20250327T191348Z
UID:15030-1744806600-1744810200@wayneseniorcenter.org
SUMMARY:Silver Sneakers Classic
DESCRIPTION:Focus on strengthening muscles and increasing range of motion using light weights\, stretch bands\, and exercise balls.
URL:https://wayneseniorcenter.org/event/silver-sneakers-classic-48/
END:VEVENT
BEGIN:VEVENT
DTSTART;TZID=UTC:20250416T140000
DTEND;TZID=UTC:20250416T150000
DTSTAMP:20260422T000659
CREATED:20250327T191348Z
LAST-MODIFIED:20250327T191348Z
UID:15032-1744812000-1744815600@wayneseniorcenter.org
SUMMARY:Tai Chi
DESCRIPTION:Tai Chi is a gentle form of exercise involving a series of graceful movements performed in a slow\, focused manner and accompanied by deep breathing. Excellent for strengthening balance and promoting stress reduction. In-Person fees – $5 for WSC members\, $10 for non-members.
URL:https://wayneseniorcenter.org/event/tai-chi-37/
END:VEVENT
END:VCALENDAR