BEGIN:VCALENDAR
VERSION:2.0
PRODID:-//Wayne Senior Center - ECPv6.15.20//NONSGML v1.0//EN
CALSCALE:GREGORIAN
METHOD:PUBLISH
X-WR-CALNAME:Wayne Senior Center
X-ORIGINAL-URL:https://wayneseniorcenter.org
X-WR-CALDESC:Events for Wayne Senior Center
REFRESH-INTERVAL;VALUE=DURATION:PT1H
X-Robots-Tag:noindex
X-PUBLISHED-TTL:PT1H
BEGIN:VTIMEZONE
TZID:UTC
BEGIN:STANDARD
TZOFFSETFROM:+0000
TZOFFSETTO:+0000
TZNAME:UTC
DTSTART:20230101T000000
END:STANDARD
END:VTIMEZONE
BEGIN:VEVENT
DTSTART;TZID=UTC:20240124T100000
DTEND;TZID=UTC:20240124T110000
DTSTAMP:20260421T084439
CREATED:20231218T204506Z
LAST-MODIFIED:20231218T204506Z
UID:12933-1706090400-1706094000@wayneseniorcenter.org
SUMMARY:Coffee with Chaplains (In Center)
DESCRIPTION:Enjoy coffee\, pastries\, and meaningful discussion with a visiting Radnor Police Chaplain.
URL:https://wayneseniorcenter.org/event/coffee-with-chaplains-in-center-4/
CATEGORIES:Life Enrichment
END:VEVENT
BEGIN:VEVENT
DTSTART;TZID=UTC:20240124T100000
DTEND;TZID=UTC:20240124T110000
DTSTAMP:20260421T084439
CREATED:20231218T204521Z
LAST-MODIFIED:20231218T204521Z
UID:12935-1706090400-1706094000@wayneseniorcenter.org
SUMMARY:Strength and Cardio (Virtual)
DESCRIPTION:Move\, stretch\, and tone both seated and standing along with instructor Cathi from home. All abilities welcome!
URL:https://wayneseniorcenter.org/event/strength-and-cardio-virtual-16/
CATEGORIES:Fitness
END:VEVENT
BEGIN:VEVENT
DTSTART;TZID=UTC:20240124T110000
DTEND;TZID=UTC:20240124T120000
DTSTAMP:20260421T084439
CREATED:20231218T204506Z
LAST-MODIFIED:20231218T204506Z
UID:12934-1706094000-1706097600@wayneseniorcenter.org
SUMMARY:Pageturners Bookclub (In Center)
DESCRIPTION:Book club returns! This month’s selection is “Where the Deer and the Antelope Play” by Nick Offerman. Enjoy lively book conversation with a Radnor Memorial Library librarian. All are welcome! Call for more info – (610)688-6246
URL:https://wayneseniorcenter.org/event/pageturners-bookclub-in-center-4/
CATEGORIES:Life Enrichment
END:VEVENT
BEGIN:VEVENT
DTSTART;TZID=UTC:20240124T110000
DTEND;TZID=UTC:20240124T120000
DTSTAMP:20260421T084439
CREATED:20231218T204521Z
LAST-MODIFIED:20231218T204521Z
UID:12936-1706094000-1706097600@wayneseniorcenter.org
SUMMARY:Tai Chi (In Center and Virtual)
DESCRIPTION:Tai Chi is a gentle form of exercise involving a series of graceful movements performed in a slow\, focused manner and accompanied by deep breathing. Excellent for strengthening balance and promoting stress reduction. In-Person fees – $5 for WSC members\, $10 for non-members.
URL:https://wayneseniorcenter.org/event/tai-chi-in-center-and-virtual-16/
CATEGORIES:Fitness
END:VEVENT
BEGIN:VEVENT
DTSTART;TZID=UTC:20240124T123000
DTEND;TZID=UTC:20240124T133000
DTSTAMP:20260421T084439
CREATED:20231218T204521Z
LAST-MODIFIED:20231218T204521Z
UID:12937-1706099400-1706103000@wayneseniorcenter.org
SUMMARY:Fool Around with Ukes (In Center)
DESCRIPTION:Dust off your ukes and join Barbara Van Clief (Barley) for a few practice sessions. Learn to play various popular songs with a group of individuals who share your passion for music!
URL:https://wayneseniorcenter.org/event/fool-around-with-ukes-in-center-2/
CATEGORIES:Social
END:VEVENT
END:VCALENDAR